BEGIN:VCALENDAR
VERSION:2.0
PRODID:-//Karratha Family Centre - ECPv6.15.20//NONSGML v1.0//EN
CALSCALE:GREGORIAN
METHOD:PUBLISH
X-ORIGINAL-URL:https://karrathafamilycentre.com.au
X-WR-CALDESC:Events for Karratha Family Centre
REFRESH-INTERVAL;VALUE=DURATION:PT1H
X-Robots-Tag:noindex
X-PUBLISHED-TTL:PT1H
BEGIN:VTIMEZONE
TZID:Australia/Perth
BEGIN:STANDARD
TZOFFSETFROM:+0800
TZOFFSETTO:+0800
TZNAME:AWST
DTSTART:20230101T000000
END:STANDARD
END:VTIMEZONE
BEGIN:VEVENT
DTSTART;TZID=Australia/Perth:20241029T150000
DTEND;TZID=Australia/Perth:20241029T170000
DTSTAMP:20260424T054428
CREATED:20241021T140122Z
LAST-MODIFIED:20241021T140122Z
UID:3893-1730214000-1730221200@karrathafamilycentre.com.au
SUMMARY:Construction Tuesdays
DESCRIPTION:Afternoon Drop & Go program for primary school age children focusing on construction\, hands-on activities.
URL:https://karrathafamilycentre.com.au/event/construction-tuesdays-22/
LOCATION:Karratha Family Centre\, 880 Bayview Road\, Bulgarra\, Western Australia\, 6714\, Australia
CATEGORIES:Construction
END:VEVENT
BEGIN:VEVENT
DTSTART;TZID=Australia/Perth:20241029T090000
DTEND;TZID=Australia/Perth:20241029T130000
DTSTAMP:20260424T054428
CREATED:20241021T140037Z
LAST-MODIFIED:20241021T140037Z
UID:3836-1730192400-1730206800@karrathafamilycentre.com.au
SUMMARY:School Readiness
DESCRIPTION:School Readiness program for 3-4year olds. Supporting their transition into schooling.
URL:https://karrathafamilycentre.com.au/event/school-readiness-82/
LOCATION:Karratha Family Centre\, 880 Bayview Road\, Bulgarra\, Western Australia\, 6714\, Australia
CATEGORIES:School Readiness
END:VEVENT
BEGIN:VEVENT
DTSTART;TZID=Australia/Perth:20241028T090000
DTEND;TZID=Australia/Perth:20241028T130000
DTSTAMP:20260424T054428
CREATED:20241021T140036Z
LAST-MODIFIED:20241021T140036Z
UID:3835-1730106000-1730120400@karrathafamilycentre.com.au
SUMMARY:School Readiness
DESCRIPTION:School Readiness program for 3-4year olds. Supporting their transition into schooling.
URL:https://karrathafamilycentre.com.au/event/school-readiness-81/
LOCATION:Karratha Family Centre\, 880 Bayview Road\, Bulgarra\, Western Australia\, 6714\, Australia
CATEGORIES:School Readiness
END:VEVENT
BEGIN:VEVENT
DTSTART;TZID=Australia/Perth:20241025T090000
DTEND;TZID=Australia/Perth:20241025T110000
DTSTAMP:20260424T054428
CREATED:20241021T140123Z
LAST-MODIFIED:20241021T140123Z
UID:3912-1729846800-1729854000@karrathafamilycentre.com.au
SUMMARY:Karratha Playgroup
DESCRIPTION:Casual Friday Playgroup is an open playgroup for parents and carers to bond an connect with their little ones in a fun and relaxing environment.
URL:https://karrathafamilycentre.com.au/event/karratha-playgroup-22/
LOCATION:Karratha Family Centre\, 880 Bayview Road\, Bulgarra\, Western Australia\, 6714\, Australia
CATEGORIES:Karratha Playgroup
END:VEVENT
BEGIN:VEVENT
DTSTART;TZID=Australia/Perth:20241025T090000
DTEND;TZID=Australia/Perth:20241025T103000
DTSTAMP:20260424T054428
CREATED:20241021T140120Z
LAST-MODIFIED:20241021T140120Z
UID:3869-1729846800-1729852200@karrathafamilycentre.com.au
SUMMARY:Toy Library Open
DESCRIPTION:
URL:https://karrathafamilycentre.com.au/event/toy-library-open-54/
LOCATION:Karratha Family Centre\, 880 Bayview Road\, Bulgarra\, Western Australia\, 6714\, Australia
CATEGORIES:Toy Library Open
END:VEVENT
BEGIN:VEVENT
DTSTART;TZID=Australia/Perth:20241025T083000
DTEND;TZID=Australia/Perth:20241025T120000
DTSTAMP:20260424T054428
CREATED:20241021T140035Z
LAST-MODIFIED:20241021T140035Z
UID:3819-1729845000-1729857600@karrathafamilycentre.com.au
SUMMARY:Teddy Bears Picnic
DESCRIPTION:Free community event for families and their children ages 0-5 years. Pop over to the Karratha Family Centre Stall and have a chat to our great staff about all our wonderful upcoming events for 2025.
URL:https://karrathafamilycentre.com.au/event/teddy-bears-picnic/
LOCATION:Western Australia
CATEGORIES:Community event
END:VEVENT
BEGIN:VEVENT
DTSTART;TZID=Australia/Perth:20241024T150000
DTEND;TZID=Australia/Perth:20241024T170000
DTSTAMP:20260424T054428
CREATED:20241021T140122Z
LAST-MODIFIED:20241021T140122Z
UID:3902-1729782000-1729789200@karrathafamilycentre.com.au
SUMMARY:Arts & Crafts Thursdays
DESCRIPTION:Afternoon Drop & Go program for primary school age children focusing on creating\, painting\, and drawing activities.
URL:https://karrathafamilycentre.com.au/event/arts-crafts-thursdays-21/
LOCATION:Karratha Family Centre\, 880 Bayview Road\, Bulgarra\, Western Australia\, 6714\, Australia
CATEGORIES:Arts & Crafts
END:VEVENT
BEGIN:VEVENT
DTSTART;TZID=Australia/Perth:20241024T090000
DTEND;TZID=Australia/Perth:20241024T130000
DTSTAMP:20260424T054428
CREATED:20241021T140036Z
LAST-MODIFIED:20241021T140036Z
UID:3834-1729760400-1729774800@karrathafamilycentre.com.au
SUMMARY:School Readiness
DESCRIPTION:School Readiness program for 3-4year olds. Supporting their transition into schooling.
URL:https://karrathafamilycentre.com.au/event/school-readiness-80/
LOCATION:Karratha Family Centre\, 880 Bayview Road\, Bulgarra\, Western Australia\, 6714\, Australia
CATEGORIES:School Readiness
END:VEVENT
BEGIN:VEVENT
DTSTART;TZID=Australia/Perth:20241023T090000
DTEND;TZID=Australia/Perth:20241023T130000
DTSTAMP:20260424T054428
CREATED:20241021T140036Z
LAST-MODIFIED:20241021T140036Z
UID:3833-1729674000-1729688400@karrathafamilycentre.com.au
SUMMARY:School Readiness
DESCRIPTION:School Readiness program for 3-4year olds. Supporting their transition into schooling.
URL:https://karrathafamilycentre.com.au/event/school-readiness-79/
LOCATION:Karratha Family Centre\, 880 Bayview Road\, Bulgarra\, Western Australia\, 6714\, Australia
CATEGORIES:School Readiness
END:VEVENT
BEGIN:VEVENT
DTSTART;TZID=Australia/Perth:20241023T090000
DTEND;TZID=Australia/Perth:20241023T103000
DTSTAMP:20260424T054428
CREATED:20241021T140120Z
LAST-MODIFIED:20241021T140120Z
UID:3868-1729674000-1729679400@karrathafamilycentre.com.au
SUMMARY:Toy Library Open
DESCRIPTION:
URL:https://karrathafamilycentre.com.au/event/toy-library-open-53/
LOCATION:Karratha Family Centre\, 880 Bayview Road\, Bulgarra\, Western Australia\, 6714\, Australia
CATEGORIES:Toy Library Open
END:VEVENT
BEGIN:VEVENT
DTSTART;TZID=Australia/Perth:20241022T150000
DTEND;TZID=Australia/Perth:20241022T170000
DTSTAMP:20260424T054428
CREATED:20241021T140122Z
LAST-MODIFIED:20241021T140122Z
UID:3892-1729609200-1729616400@karrathafamilycentre.com.au
SUMMARY:Construction Tuesdays
DESCRIPTION:Afternoon Drop & Go program for primary school age children focusing on construction\, hands-on activities.
URL:https://karrathafamilycentre.com.au/event/construction-tuesdays-21/
LOCATION:Karratha Family Centre\, 880 Bayview Road\, Bulgarra\, Western Australia\, 6714\, Australia
CATEGORIES:Construction
END:VEVENT
BEGIN:VEVENT
DTSTART;TZID=Australia/Perth:20241022T090000
DTEND;TZID=Australia/Perth:20241022T130000
DTSTAMP:20260424T054428
CREATED:20241021T140036Z
LAST-MODIFIED:20241021T140036Z
UID:3832-1729587600-1729602000@karrathafamilycentre.com.au
SUMMARY:School Readiness
DESCRIPTION:School Readiness program for 3-4year olds. Supporting their transition into schooling.
URL:https://karrathafamilycentre.com.au/event/school-readiness-78/
LOCATION:Karratha Family Centre\, 880 Bayview Road\, Bulgarra\, Western Australia\, 6714\, Australia
CATEGORIES:School Readiness
END:VEVENT
BEGIN:VEVENT
DTSTART;TZID=Australia/Perth:20241021T090000
DTEND;TZID=Australia/Perth:20241021T130000
DTSTAMP:20260424T054428
CREATED:20241021T140036Z
LAST-MODIFIED:20241021T140036Z
UID:3831-1729501200-1729515600@karrathafamilycentre.com.au
SUMMARY:School Readiness
DESCRIPTION:School Readiness program for 3-4year olds. Supporting their transition into schooling.
URL:https://karrathafamilycentre.com.au/event/school-readiness-77/
LOCATION:Karratha Family Centre\, 880 Bayview Road\, Bulgarra\, Western Australia\, 6714\, Australia
CATEGORIES:School Readiness
END:VEVENT
BEGIN:VEVENT
DTSTART;TZID=Australia/Perth:20241020T093000
DTEND;TZID=Australia/Perth:20241020T110000
DTSTAMP:20260424T054428
CREATED:20241021T140120Z
LAST-MODIFIED:20241021T140120Z
UID:3867-1729416600-1729422000@karrathafamilycentre.com.au
SUMMARY:Toy Library Open
DESCRIPTION:
URL:https://karrathafamilycentre.com.au/event/toy-library-open-52/
LOCATION:Karratha Family Centre\, 880 Bayview Road\, Bulgarra\, Western Australia\, 6714\, Australia
CATEGORIES:Toy Library Open
END:VEVENT
BEGIN:VEVENT
DTSTART;TZID=Australia/Perth:20241018T090000
DTEND;TZID=Australia/Perth:20241018T110000
DTSTAMP:20260424T054428
CREATED:20241021T140123Z
LAST-MODIFIED:20241021T140123Z
UID:3911-1729242000-1729249200@karrathafamilycentre.com.au
SUMMARY:Karratha Playgroup
DESCRIPTION:Casual Friday Playgroup is an open playgroup for parents and carers to bond an connect with their little ones in a fun and relaxing environment.
URL:https://karrathafamilycentre.com.au/event/karratha-playgroup-21/
LOCATION:Karratha Family Centre\, 880 Bayview Road\, Bulgarra\, Western Australia\, 6714\, Australia
CATEGORIES:Karratha Playgroup
END:VEVENT
BEGIN:VEVENT
DTSTART;TZID=Australia/Perth:20241018T090000
DTEND;TZID=Australia/Perth:20241018T103000
DTSTAMP:20260424T054428
CREATED:20241021T140120Z
LAST-MODIFIED:20241021T140120Z
UID:3866-1729242000-1729247400@karrathafamilycentre.com.au
SUMMARY:Toy Library Open
DESCRIPTION:
URL:https://karrathafamilycentre.com.au/event/toy-library-open-51/
LOCATION:Karratha Family Centre\, 880 Bayview Road\, Bulgarra\, Western Australia\, 6714\, Australia
CATEGORIES:Toy Library Open
END:VEVENT
BEGIN:VEVENT
DTSTART;TZID=Australia/Perth:20241017T150000
DTEND;TZID=Australia/Perth:20241017T170000
DTSTAMP:20260424T054428
CREATED:20241021T140122Z
LAST-MODIFIED:20241021T140122Z
UID:3901-1729177200-1729184400@karrathafamilycentre.com.au
SUMMARY:Arts & Crafts Thursdays
DESCRIPTION:Afternoon Drop & Go program for primary school age children focusing on creating\, painting\, and drawing activities.
URL:https://karrathafamilycentre.com.au/event/arts-crafts-thursdays-20/
LOCATION:Karratha Family Centre\, 880 Bayview Road\, Bulgarra\, Western Australia\, 6714\, Australia
CATEGORIES:Arts & Crafts
END:VEVENT
BEGIN:VEVENT
DTSTART;TZID=Australia/Perth:20241017T090000
DTEND;TZID=Australia/Perth:20241017T130000
DTSTAMP:20260424T054428
CREATED:20241021T140036Z
LAST-MODIFIED:20241021T140036Z
UID:3830-1729155600-1729170000@karrathafamilycentre.com.au
SUMMARY:School Readiness
DESCRIPTION:School Readiness program for 3-4year olds. Supporting their transition into schooling.
URL:https://karrathafamilycentre.com.au/event/school-readiness-76/
LOCATION:Karratha Family Centre\, 880 Bayview Road\, Bulgarra\, Western Australia\, 6714\, Australia
CATEGORIES:School Readiness
END:VEVENT
BEGIN:VEVENT
DTSTART;TZID=Australia/Perth:20241016T090000
DTEND;TZID=Australia/Perth:20241016T130000
DTSTAMP:20260424T054428
CREATED:20241021T140036Z
LAST-MODIFIED:20241021T140036Z
UID:3829-1729069200-1729083600@karrathafamilycentre.com.au
SUMMARY:School Readiness
DESCRIPTION:School Readiness program for 3-4year olds. Supporting their transition into schooling.
URL:https://karrathafamilycentre.com.au/event/school-readiness-75/
LOCATION:Karratha Family Centre\, 880 Bayview Road\, Bulgarra\, Western Australia\, 6714\, Australia
CATEGORIES:School Readiness
END:VEVENT
BEGIN:VEVENT
DTSTART;TZID=Australia/Perth:20241016T090000
DTEND;TZID=Australia/Perth:20241016T103000
DTSTAMP:20260424T054428
CREATED:20241021T140119Z
LAST-MODIFIED:20241021T140119Z
UID:3865-1729069200-1729074600@karrathafamilycentre.com.au
SUMMARY:Toy Library Open
DESCRIPTION:
URL:https://karrathafamilycentre.com.au/event/toy-library-open-50/
LOCATION:Karratha Family Centre\, 880 Bayview Road\, Bulgarra\, Western Australia\, 6714\, Australia
CATEGORIES:Toy Library Open
END:VEVENT
BEGIN:VEVENT
DTSTART;TZID=Australia/Perth:20241015T150000
DTEND;TZID=Australia/Perth:20241015T170000
DTSTAMP:20260424T054428
CREATED:20241021T140122Z
LAST-MODIFIED:20241021T140122Z
UID:3891-1729004400-1729011600@karrathafamilycentre.com.au
SUMMARY:Construction Tuesdays
DESCRIPTION:Afternoon Drop & Go program for primary school age children focusing on construction\, hands-on activities.
URL:https://karrathafamilycentre.com.au/event/construction-tuesdays-20/
LOCATION:Karratha Family Centre\, 880 Bayview Road\, Bulgarra\, Western Australia\, 6714\, Australia
CATEGORIES:Construction
END:VEVENT
BEGIN:VEVENT
DTSTART;TZID=Australia/Perth:20241015T090000
DTEND;TZID=Australia/Perth:20241015T130000
DTSTAMP:20260424T054428
CREATED:20241021T140036Z
LAST-MODIFIED:20241021T140036Z
UID:3828-1728982800-1728997200@karrathafamilycentre.com.au
SUMMARY:School Readiness
DESCRIPTION:School Readiness program for 3-4year olds. Supporting their transition into schooling.
URL:https://karrathafamilycentre.com.au/event/school-readiness-74/
LOCATION:Karratha Family Centre\, 880 Bayview Road\, Bulgarra\, Western Australia\, 6714\, Australia
CATEGORIES:School Readiness
END:VEVENT
BEGIN:VEVENT
DTSTART;TZID=Australia/Perth:20241014T090000
DTEND;TZID=Australia/Perth:20241014T130000
DTSTAMP:20260424T054428
CREATED:20241021T140036Z
LAST-MODIFIED:20241021T140036Z
UID:3827-1728896400-1728910800@karrathafamilycentre.com.au
SUMMARY:School Readiness
DESCRIPTION:School Readiness program for 3-4year olds. Supporting their transition into schooling.
URL:https://karrathafamilycentre.com.au/event/school-readiness-73/
LOCATION:Karratha Family Centre\, 880 Bayview Road\, Bulgarra\, Western Australia\, 6714\, Australia
CATEGORIES:School Readiness
END:VEVENT
BEGIN:VEVENT
DTSTART;TZID=Australia/Perth:20241011T090000
DTEND;TZID=Australia/Perth:20241011T110000
DTSTAMP:20260424T054428
CREATED:20241021T140123Z
LAST-MODIFIED:20241021T140123Z
UID:3910-1728637200-1728644400@karrathafamilycentre.com.au
SUMMARY:Karratha Playgroup
DESCRIPTION:Casual Friday Playgroup is an open playgroup for parents and carers to bond an connect with their little ones in a fun and relaxing environment.
URL:https://karrathafamilycentre.com.au/event/karratha-playgroup-20/
LOCATION:Karratha Family Centre\, 880 Bayview Road\, Bulgarra\, Western Australia\, 6714\, Australia
CATEGORIES:Karratha Playgroup
END:VEVENT
BEGIN:VEVENT
DTSTART;TZID=Australia/Perth:20241011T090000
DTEND;TZID=Australia/Perth:20241011T103000
DTSTAMP:20260424T054428
CREATED:20241021T140119Z
LAST-MODIFIED:20241021T140119Z
UID:3864-1728637200-1728642600@karrathafamilycentre.com.au
SUMMARY:Toy Library Open
DESCRIPTION:
URL:https://karrathafamilycentre.com.au/event/toy-library-open-49/
LOCATION:Karratha Family Centre\, 880 Bayview Road\, Bulgarra\, Western Australia\, 6714\, Australia
CATEGORIES:Toy Library Open
END:VEVENT
BEGIN:VEVENT
DTSTART;TZID=Australia/Perth:20241010T150000
DTEND;TZID=Australia/Perth:20241010T170000
DTSTAMP:20260424T054428
CREATED:20241021T140122Z
LAST-MODIFIED:20241021T140122Z
UID:3900-1728572400-1728579600@karrathafamilycentre.com.au
SUMMARY:Arts & Crafts Thursdays
DESCRIPTION:Afternoon Drop & Go program for primary school age children focusing on creating\, painting\, and drawing activities.
URL:https://karrathafamilycentre.com.au/event/arts-crafts-thursdays-19/
LOCATION:Karratha Family Centre\, 880 Bayview Road\, Bulgarra\, Western Australia\, 6714\, Australia
CATEGORIES:Arts & Crafts
END:VEVENT
BEGIN:VEVENT
DTSTART;TZID=Australia/Perth:20241010T090000
DTEND;TZID=Australia/Perth:20241010T130000
DTSTAMP:20260424T054428
CREATED:20241021T140035Z
LAST-MODIFIED:20241021T140035Z
UID:3826-1728550800-1728565200@karrathafamilycentre.com.au
SUMMARY:School Readiness
DESCRIPTION:School Readiness program for 3-4year olds. Supporting their transition into schooling.
URL:https://karrathafamilycentre.com.au/event/school-readiness-72/
LOCATION:Karratha Family Centre\, 880 Bayview Road\, Bulgarra\, Western Australia\, 6714\, Australia
CATEGORIES:School Readiness
END:VEVENT
BEGIN:VEVENT
DTSTART;TZID=Australia/Perth:20241009T090000
DTEND;TZID=Australia/Perth:20241009T130000
DTSTAMP:20260424T054428
CREATED:20241021T140035Z
LAST-MODIFIED:20241021T140035Z
UID:3825-1728464400-1728478800@karrathafamilycentre.com.au
SUMMARY:School Readiness
DESCRIPTION:School Readiness program for 3-4year olds. Supporting their transition into schooling.
URL:https://karrathafamilycentre.com.au/event/school-readiness-71/
LOCATION:Karratha Family Centre\, 880 Bayview Road\, Bulgarra\, Western Australia\, 6714\, Australia
CATEGORIES:School Readiness
END:VEVENT
BEGIN:VEVENT
DTSTART;TZID=Australia/Perth:20241009T090000
DTEND;TZID=Australia/Perth:20241009T103000
DTSTAMP:20260424T054428
CREATED:20241021T140119Z
LAST-MODIFIED:20241021T140119Z
UID:3863-1728464400-1728469800@karrathafamilycentre.com.au
SUMMARY:Toy Library Open
DESCRIPTION:
URL:https://karrathafamilycentre.com.au/event/toy-library-open-48/
LOCATION:Karratha Family Centre\, 880 Bayview Road\, Bulgarra\, Western Australia\, 6714\, Australia
CATEGORIES:Toy Library Open
END:VEVENT
BEGIN:VEVENT
DTSTART;TZID=Australia/Perth:20241008T150000
DTEND;TZID=Australia/Perth:20241008T170000
DTSTAMP:20260424T054428
CREATED:20241021T140122Z
LAST-MODIFIED:20241021T140122Z
UID:3890-1728399600-1728406800@karrathafamilycentre.com.au
SUMMARY:Construction Tuesdays
DESCRIPTION:Afternoon Drop & Go program for primary school age children focusing on construction\, hands-on activities.
URL:https://karrathafamilycentre.com.au/event/construction-tuesdays-19/
LOCATION:Karratha Family Centre\, 880 Bayview Road\, Bulgarra\, Western Australia\, 6714\, Australia
CATEGORIES:Construction
END:VEVENT
END:VCALENDAR