BEGIN:VCALENDAR
VERSION:2.0
PRODID:-//Karratha Family Centre - ECPv6.15.20//NONSGML v1.0//EN
CALSCALE:GREGORIAN
METHOD:PUBLISH
X-ORIGINAL-URL:https://karrathafamilycentre.com.au
X-WR-CALDESC:Events for Karratha Family Centre
REFRESH-INTERVAL;VALUE=DURATION:PT1H
X-Robots-Tag:noindex
X-PUBLISHED-TTL:PT1H
BEGIN:VTIMEZONE
TZID:Australia/Perth
BEGIN:STANDARD
TZOFFSETFROM:+0800
TZOFFSETTO:+0800
TZNAME:AWST
DTSTART:20230101T000000
END:STANDARD
END:VTIMEZONE
BEGIN:VEVENT
DTSTART;TZID=Australia/Perth:20241122T090000
DTEND;TZID=Australia/Perth:20241122T103000
DTSTAMP:20260424T004338
CREATED:20241021T140121Z
LAST-MODIFIED:20241021T140121Z
UID:3879-1732266000-1732271400@karrathafamilycentre.com.au
SUMMARY:Toy Library Open
DESCRIPTION:
URL:https://karrathafamilycentre.com.au/event/toy-library-open-64/
LOCATION:Karratha Family Centre\, 880 Bayview Road\, Bulgarra\, Western Australia\, 6714\, Australia
CATEGORIES:Toy Library Open
END:VEVENT
BEGIN:VEVENT
DTSTART;TZID=Australia/Perth:20241121T150000
DTEND;TZID=Australia/Perth:20241121T170000
DTSTAMP:20260424T004338
CREATED:20241021T140123Z
LAST-MODIFIED:20241021T140123Z
UID:3906-1732201200-1732208400@karrathafamilycentre.com.au
SUMMARY:Arts & Crafts Thursdays
DESCRIPTION:Afternoon Drop & Go program for primary school age children focusing on creating\, painting\, and drawing activities.
URL:https://karrathafamilycentre.com.au/event/arts-crafts-thursdays-25/
LOCATION:Karratha Family Centre\, 880 Bayview Road\, Bulgarra\, Western Australia\, 6714\, Australia
CATEGORIES:Arts & Crafts
END:VEVENT
BEGIN:VEVENT
DTSTART;TZID=Australia/Perth:20241121T090000
DTEND;TZID=Australia/Perth:20241121T130000
DTSTAMP:20260424T004338
CREATED:20241021T140051Z
LAST-MODIFIED:20241021T140051Z
UID:3850-1732179600-1732194000@karrathafamilycentre.com.au
SUMMARY:School Readiness
DESCRIPTION:School Readiness program for 3-4year olds. Supporting their transition into schooling.
URL:https://karrathafamilycentre.com.au/event/school-readiness-96/
LOCATION:Karratha Family Centre\, 880 Bayview Road\, Bulgarra\, Western Australia\, 6714\, Australia
CATEGORIES:School Readiness
END:VEVENT
BEGIN:VEVENT
DTSTART;TZID=Australia/Perth:20241120T090000
DTEND;TZID=Australia/Perth:20241120T130000
DTSTAMP:20260424T004338
CREATED:20241021T140051Z
LAST-MODIFIED:20241021T140051Z
UID:3849-1732093200-1732107600@karrathafamilycentre.com.au
SUMMARY:School Readiness
DESCRIPTION:School Readiness program for 3-4year olds. Supporting their transition into schooling.
URL:https://karrathafamilycentre.com.au/event/school-readiness-95/
LOCATION:Karratha Family Centre\, 880 Bayview Road\, Bulgarra\, Western Australia\, 6714\, Australia
CATEGORIES:School Readiness
END:VEVENT
BEGIN:VEVENT
DTSTART;TZID=Australia/Perth:20241120T090000
DTEND;TZID=Australia/Perth:20241120T103000
DTSTAMP:20260424T004338
CREATED:20241021T140121Z
LAST-MODIFIED:20241021T140121Z
UID:3878-1732093200-1732098600@karrathafamilycentre.com.au
SUMMARY:Toy Library Open
DESCRIPTION:
URL:https://karrathafamilycentre.com.au/event/toy-library-open-63/
LOCATION:Karratha Family Centre\, 880 Bayview Road\, Bulgarra\, Western Australia\, 6714\, Australia
CATEGORIES:Toy Library Open
END:VEVENT
BEGIN:VEVENT
DTSTART;TZID=Australia/Perth:20241119T150000
DTEND;TZID=Australia/Perth:20241119T170000
DTSTAMP:20260424T004338
CREATED:20241021T140122Z
LAST-MODIFIED:20241021T140122Z
UID:3896-1732028400-1732035600@karrathafamilycentre.com.au
SUMMARY:Construction Tuesdays
DESCRIPTION:Afternoon Drop & Go program for primary school age children focusing on construction\, hands-on activities.
URL:https://karrathafamilycentre.com.au/event/construction-tuesdays-25/
LOCATION:Karratha Family Centre\, 880 Bayview Road\, Bulgarra\, Western Australia\, 6714\, Australia
CATEGORIES:Construction
END:VEVENT
BEGIN:VEVENT
DTSTART;TZID=Australia/Perth:20241119T090000
DTEND;TZID=Australia/Perth:20241119T130000
DTSTAMP:20260424T004338
CREATED:20241021T140051Z
LAST-MODIFIED:20241021T140051Z
UID:3848-1732006800-1732021200@karrathafamilycentre.com.au
SUMMARY:School Readiness
DESCRIPTION:School Readiness program for 3-4year olds. Supporting their transition into schooling.
URL:https://karrathafamilycentre.com.au/event/school-readiness-94/
LOCATION:Karratha Family Centre\, 880 Bayview Road\, Bulgarra\, Western Australia\, 6714\, Australia
CATEGORIES:School Readiness
END:VEVENT
BEGIN:VEVENT
DTSTART;TZID=Australia/Perth:20241118T090000
DTEND;TZID=Australia/Perth:20241118T130000
DTSTAMP:20260424T004338
CREATED:20241021T140051Z
LAST-MODIFIED:20241021T140051Z
UID:3847-1731920400-1731934800@karrathafamilycentre.com.au
SUMMARY:School Readiness
DESCRIPTION:School Readiness program for 3-4year olds. Supporting their transition into schooling.
URL:https://karrathafamilycentre.com.au/event/school-readiness-93/
LOCATION:Karratha Family Centre\, 880 Bayview Road\, Bulgarra\, Western Australia\, 6714\, Australia
CATEGORIES:School Readiness
END:VEVENT
BEGIN:VEVENT
DTSTART;TZID=Australia/Perth:20241117T093000
DTEND;TZID=Australia/Perth:20241117T110000
DTSTAMP:20260424T004338
CREATED:20241021T140121Z
LAST-MODIFIED:20241021T140121Z
UID:3877-1731835800-1731841200@karrathafamilycentre.com.au
SUMMARY:Toy Library Open
DESCRIPTION:
URL:https://karrathafamilycentre.com.au/event/toy-library-open-62/
LOCATION:Karratha Family Centre\, 880 Bayview Road\, Bulgarra\, Western Australia\, 6714\, Australia
CATEGORIES:Toy Library Open
END:VEVENT
BEGIN:VEVENT
DTSTART;TZID=Australia/Perth:20241116T090000
DTEND;TZID=Australia/Perth:20241116T130000
DTSTAMP:20260424T004338
CREATED:20241021T140035Z
LAST-MODIFIED:20241021T140035Z
UID:3821-1731747600-1731762000@karrathafamilycentre.com.au
SUMMARY:School Readiness Open Day
DESCRIPTION:Open day / Orientation for “Lets Get Learning: School readiness 2025”  – A fun morning for children and families to come along to our Centre and see what our school readiness program is all about. All 2025 attending families are encourage to come and meet others who will be attending\, see our program space\, and get a feel for what will be involved in the program.
URL:https://karrathafamilycentre.com.au/event/school-readiness-open-day/
LOCATION:Karratha Family Centre\, 880 Bayview Road\, Bulgarra\, Western Australia\, 6714\, Australia
CATEGORIES:School Readiness
END:VEVENT
BEGIN:VEVENT
DTSTART;TZID=Australia/Perth:20241115T090000
DTEND;TZID=Australia/Perth:20241115T110000
DTSTAMP:20260424T004338
CREATED:20241021T140123Z
LAST-MODIFIED:20241021T140123Z
UID:3915-1731661200-1731668400@karrathafamilycentre.com.au
SUMMARY:Karratha Playgroup
DESCRIPTION:Casual Friday Playgroup is an open playgroup for parents and carers to bond an connect with their little ones in a fun and relaxing environment.
URL:https://karrathafamilycentre.com.au/event/karratha-playgroup-25/
LOCATION:Karratha Family Centre\, 880 Bayview Road\, Bulgarra\, Western Australia\, 6714\, Australia
CATEGORIES:Karratha Playgroup
END:VEVENT
BEGIN:VEVENT
DTSTART;TZID=Australia/Perth:20241115T090000
DTEND;TZID=Australia/Perth:20241115T103000
DTSTAMP:20260424T004338
CREATED:20241021T140120Z
LAST-MODIFIED:20241021T140120Z
UID:3876-1731661200-1731666600@karrathafamilycentre.com.au
SUMMARY:Toy Library Open
DESCRIPTION:
URL:https://karrathafamilycentre.com.au/event/toy-library-open-61/
LOCATION:Karratha Family Centre\, 880 Bayview Road\, Bulgarra\, Western Australia\, 6714\, Australia
CATEGORIES:Toy Library Open
END:VEVENT
BEGIN:VEVENT
DTSTART;TZID=Australia/Perth:20241114T150000
DTEND;TZID=Australia/Perth:20241114T170000
DTSTAMP:20260424T004338
CREATED:20241021T140123Z
LAST-MODIFIED:20241021T140123Z
UID:3905-1731596400-1731603600@karrathafamilycentre.com.au
SUMMARY:Arts & Crafts Thursdays
DESCRIPTION:Afternoon Drop & Go program for primary school age children focusing on creating\, painting\, and drawing activities.
URL:https://karrathafamilycentre.com.au/event/arts-crafts-thursdays-24/
LOCATION:Karratha Family Centre\, 880 Bayview Road\, Bulgarra\, Western Australia\, 6714\, Australia
CATEGORIES:Arts & Crafts
END:VEVENT
BEGIN:VEVENT
DTSTART;TZID=Australia/Perth:20241114T090000
DTEND;TZID=Australia/Perth:20241114T130000
DTSTAMP:20260424T004338
CREATED:20241021T140051Z
LAST-MODIFIED:20241021T140051Z
UID:3846-1731574800-1731589200@karrathafamilycentre.com.au
SUMMARY:School Readiness
DESCRIPTION:School Readiness program for 3-4year olds. Supporting their transition into schooling.
URL:https://karrathafamilycentre.com.au/event/school-readiness-92/
LOCATION:Karratha Family Centre\, 880 Bayview Road\, Bulgarra\, Western Australia\, 6714\, Australia
CATEGORIES:School Readiness
END:VEVENT
BEGIN:VEVENT
DTSTART;TZID=Australia/Perth:20241113T170000
DTEND;TZID=Australia/Perth:20241113T190000
DTSTAMP:20260424T004338
CREATED:20241021T140035Z
LAST-MODIFIED:20241021T140035Z
UID:3822-1731517200-1731524400@karrathafamilycentre.com.au
SUMMARY:MEAT RAFFLE Fundraiser
DESCRIPTION:Fundraiser MEAT RAFFLE: Come on down to the Grand Central Tavern and get yourself a ticket or two for the fantastic meat raffle. All funds raised goes into our Centre to provide resources for our childrens programs. 5pm-7pm tickets from $5 Raffle drawn at 7pm
URL:https://karrathafamilycentre.com.au/event/meat-raffle-fundraiser/
LOCATION:Western Australia
CATEGORIES:Fundraising
END:VEVENT
BEGIN:VEVENT
DTSTART;TZID=Australia/Perth:20241113T090000
DTEND;TZID=Australia/Perth:20241113T130000
DTSTAMP:20260424T004338
CREATED:20241021T140050Z
LAST-MODIFIED:20241021T140050Z
UID:3845-1731488400-1731502800@karrathafamilycentre.com.au
SUMMARY:School Readiness
DESCRIPTION:School Readiness program for 3-4year olds. Supporting their transition into schooling.
URL:https://karrathafamilycentre.com.au/event/school-readiness-91/
LOCATION:Karratha Family Centre\, 880 Bayview Road\, Bulgarra\, Western Australia\, 6714\, Australia
CATEGORIES:School Readiness
END:VEVENT
BEGIN:VEVENT
DTSTART;TZID=Australia/Perth:20241113T090000
DTEND;TZID=Australia/Perth:20241113T103000
DTSTAMP:20260424T004338
CREATED:20241021T140120Z
LAST-MODIFIED:20241021T140120Z
UID:3875-1731488400-1731493800@karrathafamilycentre.com.au
SUMMARY:Toy Library Open
DESCRIPTION:
URL:https://karrathafamilycentre.com.au/event/toy-library-open-60/
LOCATION:Karratha Family Centre\, 880 Bayview Road\, Bulgarra\, Western Australia\, 6714\, Australia
CATEGORIES:Toy Library Open
END:VEVENT
BEGIN:VEVENT
DTSTART;TZID=Australia/Perth:20241112T150000
DTEND;TZID=Australia/Perth:20241112T170000
DTSTAMP:20260424T004338
CREATED:20241021T140122Z
LAST-MODIFIED:20241021T140122Z
UID:3895-1731423600-1731430800@karrathafamilycentre.com.au
SUMMARY:Construction Tuesdays
DESCRIPTION:Afternoon Drop & Go program for primary school age children focusing on construction\, hands-on activities.
URL:https://karrathafamilycentre.com.au/event/construction-tuesdays-24/
LOCATION:Karratha Family Centre\, 880 Bayview Road\, Bulgarra\, Western Australia\, 6714\, Australia
CATEGORIES:Construction
END:VEVENT
BEGIN:VEVENT
DTSTART;TZID=Australia/Perth:20241112T090000
DTEND;TZID=Australia/Perth:20241112T130000
DTSTAMP:20260424T004338
CREATED:20241021T140050Z
LAST-MODIFIED:20241021T140050Z
UID:3844-1731402000-1731416400@karrathafamilycentre.com.au
SUMMARY:School Readiness
DESCRIPTION:School Readiness program for 3-4year olds. Supporting their transition into schooling.
URL:https://karrathafamilycentre.com.au/event/school-readiness-90/
LOCATION:Karratha Family Centre\, 880 Bayview Road\, Bulgarra\, Western Australia\, 6714\, Australia
CATEGORIES:School Readiness
END:VEVENT
BEGIN:VEVENT
DTSTART;TZID=Australia/Perth:20241111T090000
DTEND;TZID=Australia/Perth:20241111T130000
DTSTAMP:20260424T004338
CREATED:20241021T140050Z
LAST-MODIFIED:20241021T140050Z
UID:3843-1731315600-1731330000@karrathafamilycentre.com.au
SUMMARY:School Readiness
DESCRIPTION:School Readiness program for 3-4year olds. Supporting their transition into schooling.
URL:https://karrathafamilycentre.com.au/event/school-readiness-89/
LOCATION:Karratha Family Centre\, 880 Bayview Road\, Bulgarra\, Western Australia\, 6714\, Australia
CATEGORIES:School Readiness
END:VEVENT
BEGIN:VEVENT
DTSTART;TZID=Australia/Perth:20241108T090000
DTEND;TZID=Australia/Perth:20241108T110000
DTSTAMP:20260424T004338
CREATED:20241021T140123Z
LAST-MODIFIED:20241021T140123Z
UID:3914-1731056400-1731063600@karrathafamilycentre.com.au
SUMMARY:Karratha Playgroup
DESCRIPTION:Casual Friday Playgroup is an open playgroup for parents and carers to bond an connect with their little ones in a fun and relaxing environment.
URL:https://karrathafamilycentre.com.au/event/karratha-playgroup-24/
LOCATION:Karratha Family Centre\, 880 Bayview Road\, Bulgarra\, Western Australia\, 6714\, Australia
CATEGORIES:Karratha Playgroup
END:VEVENT
BEGIN:VEVENT
DTSTART;TZID=Australia/Perth:20241108T090000
DTEND;TZID=Australia/Perth:20241108T103000
DTSTAMP:20260424T004338
CREATED:20241021T140120Z
LAST-MODIFIED:20241021T140120Z
UID:3874-1731056400-1731061800@karrathafamilycentre.com.au
SUMMARY:Toy Library Open
DESCRIPTION:
URL:https://karrathafamilycentre.com.au/event/toy-library-open-59/
LOCATION:Karratha Family Centre\, 880 Bayview Road\, Bulgarra\, Western Australia\, 6714\, Australia
CATEGORIES:Toy Library Open
END:VEVENT
BEGIN:VEVENT
DTSTART;TZID=Australia/Perth:20241107T150000
DTEND;TZID=Australia/Perth:20241107T170000
DTSTAMP:20260424T004338
CREATED:20241021T140123Z
LAST-MODIFIED:20241021T140123Z
UID:3904-1730991600-1730998800@karrathafamilycentre.com.au
SUMMARY:Arts & Crafts Thursdays
DESCRIPTION:Afternoon Drop & Go program for primary school age children focusing on creating\, painting\, and drawing activities.
URL:https://karrathafamilycentre.com.au/event/arts-crafts-thursdays-23/
LOCATION:Karratha Family Centre\, 880 Bayview Road\, Bulgarra\, Western Australia\, 6714\, Australia
CATEGORIES:Arts & Crafts
END:VEVENT
BEGIN:VEVENT
DTSTART;TZID=Australia/Perth:20241107T090000
DTEND;TZID=Australia/Perth:20241107T130000
DTSTAMP:20260424T004338
CREATED:20241021T140050Z
LAST-MODIFIED:20241021T140050Z
UID:3842-1730970000-1730984400@karrathafamilycentre.com.au
SUMMARY:School Readiness
DESCRIPTION:School Readiness program for 3-4year olds. Supporting their transition into schooling.
URL:https://karrathafamilycentre.com.au/event/school-readiness-88/
LOCATION:Karratha Family Centre\, 880 Bayview Road\, Bulgarra\, Western Australia\, 6714\, Australia
CATEGORIES:School Readiness
END:VEVENT
BEGIN:VEVENT
DTSTART;TZID=Australia/Perth:20241106T090000
DTEND;TZID=Australia/Perth:20241106T130000
DTSTAMP:20260424T004338
CREATED:20241021T140050Z
LAST-MODIFIED:20241021T140050Z
UID:3841-1730883600-1730898000@karrathafamilycentre.com.au
SUMMARY:School Readiness
DESCRIPTION:School Readiness program for 3-4year olds. Supporting their transition into schooling.
URL:https://karrathafamilycentre.com.au/event/school-readiness-87/
LOCATION:Karratha Family Centre\, 880 Bayview Road\, Bulgarra\, Western Australia\, 6714\, Australia
CATEGORIES:School Readiness
END:VEVENT
BEGIN:VEVENT
DTSTART;TZID=Australia/Perth:20241106T090000
DTEND;TZID=Australia/Perth:20241106T103000
DTSTAMP:20260424T004338
CREATED:20241021T140120Z
LAST-MODIFIED:20241021T140120Z
UID:3873-1730883600-1730889000@karrathafamilycentre.com.au
SUMMARY:Toy Library Open
DESCRIPTION:
URL:https://karrathafamilycentre.com.au/event/toy-library-open-58/
LOCATION:Karratha Family Centre\, 880 Bayview Road\, Bulgarra\, Western Australia\, 6714\, Australia
CATEGORIES:Toy Library Open
END:VEVENT
BEGIN:VEVENT
DTSTART;TZID=Australia/Perth:20241105T150000
DTEND;TZID=Australia/Perth:20241105T170000
DTSTAMP:20260424T004338
CREATED:20241021T140122Z
LAST-MODIFIED:20241021T140122Z
UID:3894-1730818800-1730826000@karrathafamilycentre.com.au
SUMMARY:Construction Tuesdays
DESCRIPTION:Afternoon Drop & Go program for primary school age children focusing on construction\, hands-on activities.
URL:https://karrathafamilycentre.com.au/event/construction-tuesdays-23/
LOCATION:Karratha Family Centre\, 880 Bayview Road\, Bulgarra\, Western Australia\, 6714\, Australia
CATEGORIES:Construction
END:VEVENT
BEGIN:VEVENT
DTSTART;TZID=Australia/Perth:20241105T090000
DTEND;TZID=Australia/Perth:20241105T130000
DTSTAMP:20260424T004338
CREATED:20241021T140050Z
LAST-MODIFIED:20241021T140050Z
UID:3840-1730797200-1730811600@karrathafamilycentre.com.au
SUMMARY:School Readiness
DESCRIPTION:School Readiness program for 3-4year olds. Supporting their transition into schooling.
URL:https://karrathafamilycentre.com.au/event/school-readiness-86/
LOCATION:Karratha Family Centre\, 880 Bayview Road\, Bulgarra\, Western Australia\, 6714\, Australia
CATEGORIES:School Readiness
END:VEVENT
BEGIN:VEVENT
DTSTART;TZID=Australia/Perth:20241104T090000
DTEND;TZID=Australia/Perth:20241104T130000
DTSTAMP:20260424T004338
CREATED:20241021T140050Z
LAST-MODIFIED:20241021T140050Z
UID:3839-1730710800-1730725200@karrathafamilycentre.com.au
SUMMARY:School Readiness
DESCRIPTION:School Readiness program for 3-4year olds. Supporting their transition into schooling.
URL:https://karrathafamilycentre.com.au/event/school-readiness-85/
LOCATION:Karratha Family Centre\, 880 Bayview Road\, Bulgarra\, Western Australia\, 6714\, Australia
CATEGORIES:School Readiness
END:VEVENT
BEGIN:VEVENT
DTSTART;TZID=Australia/Perth:20241103T093000
DTEND;TZID=Australia/Perth:20241103T110000
DTSTAMP:20260424T004338
CREATED:20241021T140120Z
LAST-MODIFIED:20241021T140120Z
UID:3872-1730626200-1730631600@karrathafamilycentre.com.au
SUMMARY:Toy Library Open
DESCRIPTION:
URL:https://karrathafamilycentre.com.au/event/toy-library-open-57/
LOCATION:Karratha Family Centre\, 880 Bayview Road\, Bulgarra\, Western Australia\, 6714\, Australia
CATEGORIES:Toy Library Open
END:VEVENT
END:VCALENDAR