BEGIN:VCALENDAR
VERSION:2.0
PRODID:-//Karratha Family Centre - ECPv6.15.20//NONSGML v1.0//EN
CALSCALE:GREGORIAN
METHOD:PUBLISH
X-WR-CALNAME:Karratha Family Centre
X-ORIGINAL-URL:https://karrathafamilycentre.com.au
X-WR-CALDESC:Events for Karratha Family Centre
REFRESH-INTERVAL;VALUE=DURATION:PT1H
X-Robots-Tag:noindex
X-PUBLISHED-TTL:PT1H
BEGIN:VTIMEZONE
TZID:Australia/Perth
BEGIN:STANDARD
TZOFFSETFROM:+0800
TZOFFSETTO:+0800
TZNAME:AWST
DTSTART:20230101T000000
END:STANDARD
END:VTIMEZONE
BEGIN:VEVENT
DTSTART;TZID=Australia/Perth:20251026T150000
DTEND;TZID=Australia/Perth:20251026T173000
DTSTAMP:20260423T185516
CREATED:20251006T042411Z
LAST-MODIFIED:20251006T125152Z
UID:4359-1761490800-1761499800@karrathafamilycentre.com.au
SUMMARY:AGM Karratha Family Centre Incorporated
DESCRIPTION:Family Fun Afternoon Barbecue Dinner from 4.30 pm to 5.30 pm. \nFood and drinks provided by Centre.
URL:https://karrathafamilycentre.com.au/event/agm-karratha-family-centre-incorporated/
LOCATION:Karratha Family Centre\, 880 Bayview Road\, Bulgarra\, Western Australia\, 6714\, Australia
ORGANIZER;CN="Karratha Family Centre":MAILTO:admin@karrathafamilycentre.com.au
END:VEVENT
BEGIN:VEVENT
DTSTART;VALUE=DATE:20251014
DTEND;VALUE=DATE:20251015
DTSTAMP:20260423T185516
CREATED:20251006T041639Z
LAST-MODIFIED:20251006T041941Z
UID:4356-1760400000-1760486399@karrathafamilycentre.com.au
SUMMARY:Term 4 School Readiness Program Starts
DESCRIPTION:
URL:https://karrathafamilycentre.com.au/event/term-4-school-readiness-program-starts/
LOCATION:Karratha Family Centre\, 880 Bayview Road\, Bulgarra\, Western Australia\, 6714\, Australia
END:VEVENT
BEGIN:VEVENT
DTSTART;TZID=Australia/Perth:20241220T090000
DTEND;TZID=Australia/Perth:20241220T103000
DTSTAMP:20260423T185516
CREATED:20241021T140122Z
LAST-MODIFIED:20241021T140122Z
UID:3889-1734685200-1734690600@karrathafamilycentre.com.au
SUMMARY:Toy Library Open
DESCRIPTION:
URL:https://karrathafamilycentre.com.au/event/toy-library-open-74/
LOCATION:Karratha Family Centre\, 880 Bayview Road\, Bulgarra\, Western Australia\, 6714\, Australia
CATEGORIES:Toy Library Open
END:VEVENT
BEGIN:VEVENT
DTSTART;TZID=Australia/Perth:20241218T090000
DTEND;TZID=Australia/Perth:20241218T103000
DTSTAMP:20260423T185516
CREATED:20241021T140121Z
LAST-MODIFIED:20241021T140121Z
UID:3888-1734512400-1734517800@karrathafamilycentre.com.au
SUMMARY:Toy Library Open
DESCRIPTION:
URL:https://karrathafamilycentre.com.au/event/toy-library-open-73/
LOCATION:Karratha Family Centre\, 880 Bayview Road\, Bulgarra\, Western Australia\, 6714\, Australia
CATEGORIES:Toy Library Open
END:VEVENT
BEGIN:VEVENT
DTSTART;TZID=Australia/Perth:20241215T093000
DTEND;TZID=Australia/Perth:20241215T110000
DTSTAMP:20260423T185516
CREATED:20241021T140121Z
LAST-MODIFIED:20241021T140121Z
UID:3887-1734255000-1734260400@karrathafamilycentre.com.au
SUMMARY:Toy Library Open
DESCRIPTION:
URL:https://karrathafamilycentre.com.au/event/toy-library-open-72/
LOCATION:Karratha Family Centre\, 880 Bayview Road\, Bulgarra\, Western Australia\, 6714\, Australia
CATEGORIES:Toy Library Open
END:VEVENT
BEGIN:VEVENT
DTSTART;TZID=Australia/Perth:20241213T090000
DTEND;TZID=Australia/Perth:20241213T110000
DTSTAMP:20260423T185516
CREATED:20241021T140123Z
LAST-MODIFIED:20241021T140123Z
UID:3919-1734080400-1734087600@karrathafamilycentre.com.au
SUMMARY:Karratha Playgroup
DESCRIPTION:Casual Friday Playgroup is an open playgroup for parents and carers to bond an connect with their little ones in a fun and relaxing environment.
URL:https://karrathafamilycentre.com.au/event/karratha-playgroup-29/
LOCATION:Karratha Family Centre\, 880 Bayview Road\, Bulgarra\, Western Australia\, 6714\, Australia
CATEGORIES:Karratha Playgroup
END:VEVENT
BEGIN:VEVENT
DTSTART;TZID=Australia/Perth:20241213T090000
DTEND;TZID=Australia/Perth:20241213T103000
DTSTAMP:20260423T185516
CREATED:20241021T140121Z
LAST-MODIFIED:20241021T140121Z
UID:3886-1734080400-1734085800@karrathafamilycentre.com.au
SUMMARY:Toy Library Open
DESCRIPTION:
URL:https://karrathafamilycentre.com.au/event/toy-library-open-71/
LOCATION:Karratha Family Centre\, 880 Bayview Road\, Bulgarra\, Western Australia\, 6714\, Australia
CATEGORIES:Toy Library Open
END:VEVENT
BEGIN:VEVENT
DTSTART;TZID=Australia/Perth:20241212T180000
DTEND;TZID=Australia/Perth:20241212T180000
DTSTAMP:20260423T185516
CREATED:20241021T140035Z
LAST-MODIFIED:20241125T081138Z
UID:3820-1734026400-1734026400@karrathafamilycentre.com.au
SUMMARY:Community Movie Night
DESCRIPTION:Christmas Movie Night:
URL:https://karrathafamilycentre.com.au/event/community-movie-night/
LOCATION:Karratha Family Centre\, 880 Bayview Road\, Bulgarra\, Western Australia\, 6714\, Australia
CATEGORIES:Community event
END:VEVENT
BEGIN:VEVENT
DTSTART;TZID=Australia/Perth:20241212T150000
DTEND;TZID=Australia/Perth:20241212T170000
DTSTAMP:20260423T185516
CREATED:20241021T140123Z
LAST-MODIFIED:20241021T140123Z
UID:3909-1734015600-1734022800@karrathafamilycentre.com.au
SUMMARY:Arts & Crafts Thursdays
DESCRIPTION:Afternoon Drop & Go program for primary school age children focusing on creating\, painting\, and drawing activities.
URL:https://karrathafamilycentre.com.au/event/arts-crafts-thursdays-28/
LOCATION:Karratha Family Centre\, 880 Bayview Road\, Bulgarra\, Western Australia\, 6714\, Australia
CATEGORIES:Arts & Crafts
END:VEVENT
BEGIN:VEVENT
DTSTART;TZID=Australia/Perth:20241212T090000
DTEND;TZID=Australia/Perth:20241212T130000
DTSTAMP:20260423T185516
CREATED:20241021T140119Z
LAST-MODIFIED:20241021T140119Z
UID:3862-1733994000-1734008400@karrathafamilycentre.com.au
SUMMARY:School Readiness
DESCRIPTION:School Readiness program for 3-4year olds. Supporting their transition into schooling.
URL:https://karrathafamilycentre.com.au/event/school-readiness-108/
LOCATION:Karratha Family Centre\, 880 Bayview Road\, Bulgarra\, Western Australia\, 6714\, Australia
CATEGORIES:School Readiness
END:VEVENT
BEGIN:VEVENT
DTSTART;TZID=Australia/Perth:20241211T090000
DTEND;TZID=Australia/Perth:20241211T130000
DTSTAMP:20260423T185516
CREATED:20241021T140119Z
LAST-MODIFIED:20241021T140119Z
UID:3861-1733907600-1733922000@karrathafamilycentre.com.au
SUMMARY:School Readiness
DESCRIPTION:School Readiness program for 3-4year olds. Supporting their transition into schooling.
URL:https://karrathafamilycentre.com.au/event/school-readiness-107/
LOCATION:Karratha Family Centre\, 880 Bayview Road\, Bulgarra\, Western Australia\, 6714\, Australia
CATEGORIES:School Readiness
END:VEVENT
BEGIN:VEVENT
DTSTART;TZID=Australia/Perth:20241211T090000
DTEND;TZID=Australia/Perth:20241211T103000
DTSTAMP:20260423T185516
CREATED:20241021T140121Z
LAST-MODIFIED:20241021T140121Z
UID:3885-1733907600-1733913000@karrathafamilycentre.com.au
SUMMARY:Toy Library Open
DESCRIPTION:
URL:https://karrathafamilycentre.com.au/event/toy-library-open-70/
LOCATION:Karratha Family Centre\, 880 Bayview Road\, Bulgarra\, Western Australia\, 6714\, Australia
CATEGORIES:Toy Library Open
END:VEVENT
BEGIN:VEVENT
DTSTART;TZID=Australia/Perth:20241210T150000
DTEND;TZID=Australia/Perth:20241210T170000
DTSTAMP:20260423T185516
CREATED:20241021T140122Z
LAST-MODIFIED:20241021T140122Z
UID:3899-1733842800-1733850000@karrathafamilycentre.com.au
SUMMARY:Construction Tuesdays
DESCRIPTION:Afternoon Drop & Go program for primary school age children focusing on construction\, hands-on activities.
URL:https://karrathafamilycentre.com.au/event/construction-tuesdays-28/
LOCATION:Karratha Family Centre\, 880 Bayview Road\, Bulgarra\, Western Australia\, 6714\, Australia
CATEGORIES:Construction
END:VEVENT
BEGIN:VEVENT
DTSTART;TZID=Australia/Perth:20241210T090000
DTEND;TZID=Australia/Perth:20241210T130000
DTSTAMP:20260423T185516
CREATED:20241021T140119Z
LAST-MODIFIED:20241021T140119Z
UID:3860-1733821200-1733835600@karrathafamilycentre.com.au
SUMMARY:School Readiness
DESCRIPTION:School Readiness program for 3-4year olds. Supporting their transition into schooling.
URL:https://karrathafamilycentre.com.au/event/school-readiness-106/
LOCATION:Karratha Family Centre\, 880 Bayview Road\, Bulgarra\, Western Australia\, 6714\, Australia
CATEGORIES:School Readiness
END:VEVENT
BEGIN:VEVENT
DTSTART;TZID=Australia/Perth:20241209T090000
DTEND;TZID=Australia/Perth:20241209T130000
DTSTAMP:20260423T185516
CREATED:20241021T140119Z
LAST-MODIFIED:20241021T140119Z
UID:3859-1733734800-1733749200@karrathafamilycentre.com.au
SUMMARY:School Readiness
DESCRIPTION:School Readiness program for 3-4year olds. Supporting their transition into schooling.
URL:https://karrathafamilycentre.com.au/event/school-readiness-105/
LOCATION:Karratha Family Centre\, 880 Bayview Road\, Bulgarra\, Western Australia\, 6714\, Australia
CATEGORIES:School Readiness
END:VEVENT
BEGIN:VEVENT
DTSTART;TZID=Australia/Perth:20241206T090000
DTEND;TZID=Australia/Perth:20241206T110000
DTSTAMP:20260423T185516
CREATED:20241021T140123Z
LAST-MODIFIED:20241021T140123Z
UID:3918-1733475600-1733482800@karrathafamilycentre.com.au
SUMMARY:Karratha Playgroup
DESCRIPTION:Casual Friday Playgroup is an open playgroup for parents and carers to bond an connect with their little ones in a fun and relaxing environment.
URL:https://karrathafamilycentre.com.au/event/karratha-playgroup-28/
LOCATION:Karratha Family Centre\, 880 Bayview Road\, Bulgarra\, Western Australia\, 6714\, Australia
CATEGORIES:Karratha Playgroup
END:VEVENT
BEGIN:VEVENT
DTSTART;TZID=Australia/Perth:20241206T090000
DTEND;TZID=Australia/Perth:20241206T103000
DTSTAMP:20260423T185516
CREATED:20241021T140121Z
LAST-MODIFIED:20241021T140121Z
UID:3884-1733475600-1733481000@karrathafamilycentre.com.au
SUMMARY:Toy Library Open
DESCRIPTION:
URL:https://karrathafamilycentre.com.au/event/toy-library-open-69/
LOCATION:Karratha Family Centre\, 880 Bayview Road\, Bulgarra\, Western Australia\, 6714\, Australia
CATEGORIES:Toy Library Open
END:VEVENT
BEGIN:VEVENT
DTSTART;TZID=Australia/Perth:20241205T150000
DTEND;TZID=Australia/Perth:20241205T170000
DTSTAMP:20260423T185516
CREATED:20241021T140123Z
LAST-MODIFIED:20241021T140123Z
UID:3908-1733410800-1733418000@karrathafamilycentre.com.au
SUMMARY:Arts & Crafts Thursdays
DESCRIPTION:Afternoon Drop & Go program for primary school age children focusing on creating\, painting\, and drawing activities.
URL:https://karrathafamilycentre.com.au/event/arts-crafts-thursdays-27/
LOCATION:Karratha Family Centre\, 880 Bayview Road\, Bulgarra\, Western Australia\, 6714\, Australia
CATEGORIES:Arts & Crafts
END:VEVENT
BEGIN:VEVENT
DTSTART;TZID=Australia/Perth:20241205T120000
DTEND;TZID=Australia/Perth:20241205T130000
DTSTAMP:20260423T185516
CREATED:20241021T140035Z
LAST-MODIFIED:20241021T140035Z
UID:3823-1733400000-1733403600@karrathafamilycentre.com.au
SUMMARY:School Readiness Graduation
DESCRIPTION:Join us in celebration for all our school readiness children for 2024. Graduation ceremony\, student performance\, and a mini party to mark their wonderful achievement of completing a fantastic year at school readiness.
URL:https://karrathafamilycentre.com.au/event/school-readiness-graduation/
LOCATION:Karratha Family Centre\, 880 Bayview Road\, Bulgarra\, Western Australia\, 6714\, Australia
CATEGORIES:School Readiness
END:VEVENT
BEGIN:VEVENT
DTSTART;TZID=Australia/Perth:20241205T090000
DTEND;TZID=Australia/Perth:20241205T130000
DTSTAMP:20260423T185516
CREATED:20241021T140052Z
LAST-MODIFIED:20241021T140052Z
UID:3858-1733389200-1733403600@karrathafamilycentre.com.au
SUMMARY:School Readiness
DESCRIPTION:School Readiness program for 3-4year olds. Supporting their transition into schooling.
URL:https://karrathafamilycentre.com.au/event/school-readiness-104/
LOCATION:Karratha Family Centre\, 880 Bayview Road\, Bulgarra\, Western Australia\, 6714\, Australia
CATEGORIES:School Readiness
END:VEVENT
BEGIN:VEVENT
DTSTART;TZID=Australia/Perth:20241204T090000
DTEND;TZID=Australia/Perth:20241204T130000
DTSTAMP:20260423T185516
CREATED:20241021T140052Z
LAST-MODIFIED:20241021T140052Z
UID:3857-1733302800-1733317200@karrathafamilycentre.com.au
SUMMARY:School Readiness
DESCRIPTION:School Readiness program for 3-4year olds. Supporting their transition into schooling.
URL:https://karrathafamilycentre.com.au/event/school-readiness-103/
LOCATION:Karratha Family Centre\, 880 Bayview Road\, Bulgarra\, Western Australia\, 6714\, Australia
CATEGORIES:School Readiness
END:VEVENT
BEGIN:VEVENT
DTSTART;TZID=Australia/Perth:20241204T090000
DTEND;TZID=Australia/Perth:20241204T103000
DTSTAMP:20260423T185516
CREATED:20241021T140121Z
LAST-MODIFIED:20241021T140121Z
UID:3883-1733302800-1733308200@karrathafamilycentre.com.au
SUMMARY:Toy Library Open
DESCRIPTION:
URL:https://karrathafamilycentre.com.au/event/toy-library-open-68/
LOCATION:Karratha Family Centre\, 880 Bayview Road\, Bulgarra\, Western Australia\, 6714\, Australia
CATEGORIES:Toy Library Open
END:VEVENT
BEGIN:VEVENT
DTSTART;TZID=Australia/Perth:20241203T150000
DTEND;TZID=Australia/Perth:20241203T170000
DTSTAMP:20260423T185516
CREATED:20241021T140122Z
LAST-MODIFIED:20241021T140122Z
UID:3898-1733238000-1733245200@karrathafamilycentre.com.au
SUMMARY:Construction Tuesdays
DESCRIPTION:Afternoon Drop & Go program for primary school age children focusing on construction\, hands-on activities.
URL:https://karrathafamilycentre.com.au/event/construction-tuesdays-27/
LOCATION:Karratha Family Centre\, 880 Bayview Road\, Bulgarra\, Western Australia\, 6714\, Australia
CATEGORIES:Construction
END:VEVENT
BEGIN:VEVENT
DTSTART;TZID=Australia/Perth:20241203T090000
DTEND;TZID=Australia/Perth:20241203T130000
DTSTAMP:20260423T185516
CREATED:20241021T140052Z
LAST-MODIFIED:20241021T140052Z
UID:3856-1733216400-1733230800@karrathafamilycentre.com.au
SUMMARY:School Readiness
DESCRIPTION:School Readiness program for 3-4year olds. Supporting their transition into schooling.
URL:https://karrathafamilycentre.com.au/event/school-readiness-102/
LOCATION:Karratha Family Centre\, 880 Bayview Road\, Bulgarra\, Western Australia\, 6714\, Australia
CATEGORIES:School Readiness
END:VEVENT
BEGIN:VEVENT
DTSTART;TZID=Australia/Perth:20241202T090000
DTEND;TZID=Australia/Perth:20241202T130000
DTSTAMP:20260423T185516
CREATED:20241021T140051Z
LAST-MODIFIED:20241021T140051Z
UID:3855-1733130000-1733144400@karrathafamilycentre.com.au
SUMMARY:School Readiness
DESCRIPTION:School Readiness program for 3-4year olds. Supporting their transition into schooling.
URL:https://karrathafamilycentre.com.au/event/school-readiness-101/
LOCATION:Karratha Family Centre\, 880 Bayview Road\, Bulgarra\, Western Australia\, 6714\, Australia
CATEGORIES:School Readiness
END:VEVENT
BEGIN:VEVENT
DTSTART;TZID=Australia/Perth:20241201T093000
DTEND;TZID=Australia/Perth:20241201T110000
DTSTAMP:20260423T185516
CREATED:20241021T140121Z
LAST-MODIFIED:20241021T140121Z
UID:3882-1733045400-1733050800@karrathafamilycentre.com.au
SUMMARY:Toy Library Open
DESCRIPTION:
URL:https://karrathafamilycentre.com.au/event/toy-library-open-67/
LOCATION:Karratha Family Centre\, 880 Bayview Road\, Bulgarra\, Western Australia\, 6714\, Australia
CATEGORIES:Toy Library Open
END:VEVENT
BEGIN:VEVENT
DTSTART;TZID=Australia/Perth:20241129T090000
DTEND;TZID=Australia/Perth:20241129T110000
DTSTAMP:20260423T185516
CREATED:20241021T140123Z
LAST-MODIFIED:20241021T140123Z
UID:3917-1732870800-1732878000@karrathafamilycentre.com.au
SUMMARY:Karratha Playgroup
DESCRIPTION:Casual Friday Playgroup is an open playgroup for parents and carers to bond an connect with their little ones in a fun and relaxing environment.
URL:https://karrathafamilycentre.com.au/event/karratha-playgroup-27/
LOCATION:Karratha Family Centre\, 880 Bayview Road\, Bulgarra\, Western Australia\, 6714\, Australia
CATEGORIES:Karratha Playgroup
END:VEVENT
BEGIN:VEVENT
DTSTART;TZID=Australia/Perth:20241129T090000
DTEND;TZID=Australia/Perth:20241129T103000
DTSTAMP:20260423T185516
CREATED:20241021T140121Z
LAST-MODIFIED:20241021T140121Z
UID:3881-1732870800-1732876200@karrathafamilycentre.com.au
SUMMARY:Toy Library Open
DESCRIPTION:
URL:https://karrathafamilycentre.com.au/event/toy-library-open-66/
LOCATION:Karratha Family Centre\, 880 Bayview Road\, Bulgarra\, Western Australia\, 6714\, Australia
CATEGORIES:Toy Library Open
END:VEVENT
BEGIN:VEVENT
DTSTART;TZID=Australia/Perth:20241128T150000
DTEND;TZID=Australia/Perth:20241128T170000
DTSTAMP:20260423T185516
CREATED:20241021T140123Z
LAST-MODIFIED:20241021T140123Z
UID:3907-1732806000-1732813200@karrathafamilycentre.com.au
SUMMARY:Arts & Crafts Thursdays
DESCRIPTION:Afternoon Drop & Go program for primary school age children focusing on creating\, painting\, and drawing activities.
URL:https://karrathafamilycentre.com.au/event/arts-crafts-thursdays-26/
LOCATION:Karratha Family Centre\, 880 Bayview Road\, Bulgarra\, Western Australia\, 6714\, Australia
CATEGORIES:Arts & Crafts
END:VEVENT
BEGIN:VEVENT
DTSTART;TZID=Australia/Perth:20241128T090000
DTEND;TZID=Australia/Perth:20241128T130000
DTSTAMP:20260423T185516
CREATED:20241021T140051Z
LAST-MODIFIED:20241021T140051Z
UID:3854-1732784400-1732798800@karrathafamilycentre.com.au
SUMMARY:School Readiness
DESCRIPTION:School Readiness program for 3-4year olds. Supporting their transition into schooling.
URL:https://karrathafamilycentre.com.au/event/school-readiness-100/
LOCATION:Karratha Family Centre\, 880 Bayview Road\, Bulgarra\, Western Australia\, 6714\, Australia
CATEGORIES:School Readiness
END:VEVENT
END:VCALENDAR