BEGIN:VCALENDAR
VERSION:2.0
PRODID:-//Karratha Family Centre - ECPv6.15.20//NONSGML v1.0//EN
CALSCALE:GREGORIAN
METHOD:PUBLISH
X-WR-CALNAME:Karratha Family Centre
X-ORIGINAL-URL:https://karrathafamilycentre.com.au
X-WR-CALDESC:Events for Karratha Family Centre
REFRESH-INTERVAL;VALUE=DURATION:PT1H
X-Robots-Tag:noindex
X-PUBLISHED-TTL:PT1H
BEGIN:VTIMEZONE
TZID:Australia/Perth
BEGIN:STANDARD
TZOFFSETFROM:+0800
TZOFFSETTO:+0800
TZNAME:AWST
DTSTART:20230101T000000
END:STANDARD
END:VTIMEZONE
BEGIN:VEVENT
DTSTART;TZID=Australia/Perth:20240724T090000
DTEND;TZID=Australia/Perth:20240724T103000
DTSTAMP:20260421T221950
CREATED:20240526T101949Z
LAST-MODIFIED:20240527T022946Z
UID:3559-1721811600-1721817000@karrathafamilycentre.com.au
SUMMARY:Toy Library Open
DESCRIPTION:Toy Library borrowing and returning
URL:https://karrathafamilycentre.com.au/event/toy-library-open-26/
LOCATION:Karratha Family Centre\, 880 Bayview Road\, Bulgarra\, Western Australia\, 6714\, Australia
CATEGORIES:Toy Library Open
END:VEVENT
BEGIN:VEVENT
DTSTART;TZID=Australia/Perth:20240719T090000
DTEND;TZID=Australia/Perth:20240719T103000
DTSTAMP:20260421T221950
CREATED:20240526T101948Z
LAST-MODIFIED:20240527T022946Z
UID:3557-1721379600-1721385000@karrathafamilycentre.com.au
SUMMARY:Toy Library Open
DESCRIPTION:Toy Library borrowing and returning
URL:https://karrathafamilycentre.com.au/event/toy-library-open-24/
LOCATION:Karratha Family Centre\, 880 Bayview Road\, Bulgarra\, Western Australia\, 6714\, Australia
CATEGORIES:Toy Library Open
END:VEVENT
BEGIN:VEVENT
DTSTART;TZID=Australia/Perth:20240717T090000
DTEND;TZID=Australia/Perth:20240717T103000
DTSTAMP:20260421T221950
CREATED:20240526T101948Z
LAST-MODIFIED:20240527T022945Z
UID:3556-1721206800-1721212200@karrathafamilycentre.com.au
SUMMARY:Toy Library Open
DESCRIPTION:Toy Library borrowing and returning
URL:https://karrathafamilycentre.com.au/event/toy-library-open-23/
LOCATION:Karratha Family Centre\, 880 Bayview Road\, Bulgarra\, Western Australia\, 6714\, Australia
CATEGORIES:Toy Library Open
END:VEVENT
BEGIN:VEVENT
DTSTART;TZID=Australia/Perth:20240714T093000
DTEND;TZID=Australia/Perth:20240714T110000
DTSTAMP:20260421T221950
CREATED:20240526T101949Z
LAST-MODIFIED:20240527T022946Z
UID:3558-1720949400-1720954800@karrathafamilycentre.com.au
SUMMARY:Toy Library Open
DESCRIPTION:Toy Library borrowing and returning
URL:https://karrathafamilycentre.com.au/event/toy-library-open-25/
LOCATION:Karratha Family Centre\, 880 Bayview Road\, Bulgarra\, Western Australia\, 6714\, Australia
CATEGORIES:Toy Library Open
END:VEVENT
BEGIN:VEVENT
DTSTART;TZID=Australia/Perth:20240712T090000
DTEND;TZID=Australia/Perth:20240712T103000
DTSTAMP:20260421T221950
CREATED:20240526T101948Z
LAST-MODIFIED:20240527T022945Z
UID:3555-1720774800-1720780200@karrathafamilycentre.com.au
SUMMARY:Toy Library Open
DESCRIPTION:Toy Library borrowing and returning
URL:https://karrathafamilycentre.com.au/event/toy-library-open-22/
LOCATION:Karratha Family Centre\, 880 Bayview Road\, Bulgarra\, Western Australia\, 6714\, Australia
CATEGORIES:Toy Library Open
END:VEVENT
BEGIN:VEVENT
DTSTART;TZID=Australia/Perth:20240710T090000
DTEND;TZID=Australia/Perth:20240710T103000
DTSTAMP:20260421T221950
CREATED:20240526T101942Z
LAST-MODIFIED:20240527T022931Z
UID:3554-1720602000-1720607400@karrathafamilycentre.com.au
SUMMARY:Toy Library Open
DESCRIPTION:Toy Library borrowing and returning
URL:https://karrathafamilycentre.com.au/event/toy-library-open-21/
LOCATION:Karratha Family Centre\, 880 Bayview Road\, Bulgarra\, Western Australia\, 6714\, Australia
CATEGORIES:Toy Library Open
END:VEVENT
BEGIN:VEVENT
DTSTART;TZID=Australia/Perth:20240630T093000
DTEND;TZID=Australia/Perth:20240630T110000
DTSTAMP:20260421T221950
CREATED:20240429T032025Z
LAST-MODIFIED:20240527T023801Z
UID:3299-1719739800-1719745200@karrathafamilycentre.com.au
SUMMARY:Toy Library Open
DESCRIPTION:Toy Library borrowing and returning
URL:https://karrathafamilycentre.com.au/event/toy-library-open-20/
LOCATION:Karratha Family Centre\, 880 Bayview Road\, Bulgarra\, Western Australia\, 6714\, Australia
CATEGORIES:Toy Library Open
END:VEVENT
BEGIN:VEVENT
DTSTART;TZID=Australia/Perth:20240628T090000
DTEND;TZID=Australia/Perth:20240628T103000
DTSTAMP:20260421T221950
CREATED:20240429T032024Z
LAST-MODIFIED:20240527T023801Z
UID:3298-1719565200-1719570600@karrathafamilycentre.com.au
SUMMARY:Toy Library Open
DESCRIPTION:Toy Library borrowing and returning
URL:https://karrathafamilycentre.com.au/event/toy-library-open-19/
LOCATION:Karratha Family Centre\, 880 Bayview Road\, Bulgarra\, Western Australia\, 6714\, Australia
CATEGORIES:Toy Library Open
END:VEVENT
BEGIN:VEVENT
DTSTART;TZID=Australia/Perth:20240626T090000
DTEND;TZID=Australia/Perth:20240626T103000
DTSTAMP:20260421T221950
CREATED:20240429T031824Z
LAST-MODIFIED:20240527T023759Z
UID:3297-1719392400-1719397800@karrathafamilycentre.com.au
SUMMARY:Toy Library Open
DESCRIPTION:Toy Library borrowing and returning
URL:https://karrathafamilycentre.com.au/event/toy-library-open-18/
LOCATION:Karratha Family Centre\, 880 Bayview Road\, Bulgarra\, Western Australia\, 6714\, Australia
CATEGORIES:Toy Library Open
END:VEVENT
BEGIN:VEVENT
DTSTART;TZID=Australia/Perth:20240621T090000
DTEND;TZID=Australia/Perth:20240621T103000
DTSTAMP:20260421T221950
CREATED:20240429T031824Z
LAST-MODIFIED:20240527T023758Z
UID:3296-1718960400-1718965800@karrathafamilycentre.com.au
SUMMARY:Toy Library Open
DESCRIPTION:Toy Library borrowing and returning
URL:https://karrathafamilycentre.com.au/event/toy-library-open-17/
LOCATION:Karratha Family Centre\, 880 Bayview Road\, Bulgarra\, Western Australia\, 6714\, Australia
CATEGORIES:Toy Library Open
END:VEVENT
BEGIN:VEVENT
DTSTART;TZID=Australia/Perth:20240619T090000
DTEND;TZID=Australia/Perth:20240619T103000
DTSTAMP:20260421T221950
CREATED:20240429T031824Z
LAST-MODIFIED:20240527T023758Z
UID:3295-1718787600-1718793000@karrathafamilycentre.com.au
SUMMARY:Toy Library Open
DESCRIPTION:Toy Library borrowing and returning
URL:https://karrathafamilycentre.com.au/event/toy-library-open-16/
LOCATION:Karratha Family Centre\, 880 Bayview Road\, Bulgarra\, Western Australia\, 6714\, Australia
CATEGORIES:Toy Library Open
END:VEVENT
BEGIN:VEVENT
DTSTART;TZID=Australia/Perth:20240616T093000
DTEND;TZID=Australia/Perth:20240616T110000
DTSTAMP:20260421T221950
CREATED:20240429T031824Z
LAST-MODIFIED:20240527T023758Z
UID:3294-1718530200-1718535600@karrathafamilycentre.com.au
SUMMARY:Toy Library Open
DESCRIPTION:Toy Library borrowing and returning
URL:https://karrathafamilycentre.com.au/event/toy-library-open-15/
LOCATION:Karratha Family Centre\, 880 Bayview Road\, Bulgarra\, Western Australia\, 6714\, Australia
CATEGORIES:Toy Library Open
END:VEVENT
BEGIN:VEVENT
DTSTART;TZID=Australia/Perth:20240614T090000
DTEND;TZID=Australia/Perth:20240614T103000
DTSTAMP:20260421T221950
CREATED:20240429T031823Z
LAST-MODIFIED:20240527T023758Z
UID:3293-1718355600-1718361000@karrathafamilycentre.com.au
SUMMARY:Toy Library Open
DESCRIPTION:Toy Library borrowing and returning
URL:https://karrathafamilycentre.com.au/event/toy-library-open-14/
LOCATION:Karratha Family Centre\, 880 Bayview Road\, Bulgarra\, Western Australia\, 6714\, Australia
CATEGORIES:Toy Library Open
END:VEVENT
BEGIN:VEVENT
DTSTART;TZID=Australia/Perth:20240612T090000
DTEND;TZID=Australia/Perth:20240612T103000
DTSTAMP:20260421T221950
CREATED:20240429T031623Z
LAST-MODIFIED:20240527T023747Z
UID:3292-1718182800-1718188200@karrathafamilycentre.com.au
SUMMARY:Toy Library Open
DESCRIPTION:Toy Library borrowing and returning
URL:https://karrathafamilycentre.com.au/event/toy-library-open-13/
LOCATION:Karratha Family Centre\, 880 Bayview Road\, Bulgarra\, Western Australia\, 6714\, Australia
CATEGORIES:Toy Library Open
END:VEVENT
BEGIN:VEVENT
DTSTART;TZID=Australia/Perth:20240607T090000
DTEND;TZID=Australia/Perth:20240607T103000
DTSTAMP:20260421T221950
CREATED:20240429T031623Z
LAST-MODIFIED:20240527T023747Z
UID:3291-1717750800-1717756200@karrathafamilycentre.com.au
SUMMARY:Toy Library Open
DESCRIPTION:Toy Library borrowing and returning
URL:https://karrathafamilycentre.com.au/event/toy-library-open-12/
LOCATION:Karratha Family Centre\, 880 Bayview Road\, Bulgarra\, Western Australia\, 6714\, Australia
CATEGORIES:Toy Library Open
END:VEVENT
BEGIN:VEVENT
DTSTART;TZID=Australia/Perth:20240605T090000
DTEND;TZID=Australia/Perth:20240605T103000
DTSTAMP:20260421T221950
CREATED:20240429T031623Z
LAST-MODIFIED:20240527T023747Z
UID:3290-1717578000-1717583400@karrathafamilycentre.com.au
SUMMARY:Toy Library Open
DESCRIPTION:Toy Library borrowing and returning
URL:https://karrathafamilycentre.com.au/event/toy-library-open-11/
LOCATION:Karratha Family Centre\, 880 Bayview Road\, Bulgarra\, Western Australia\, 6714\, Australia
CATEGORIES:Toy Library Open
END:VEVENT
BEGIN:VEVENT
DTSTART;TZID=Australia/Perth:20240602T093000
DTEND;TZID=Australia/Perth:20240602T110000
DTSTAMP:20260421T221950
CREATED:20240429T031623Z
LAST-MODIFIED:20240527T023747Z
UID:3289-1717320600-1717326000@karrathafamilycentre.com.au
SUMMARY:Toy Library Open
DESCRIPTION:Toy Library borrowing and returning
URL:https://karrathafamilycentre.com.au/event/toy-library-open-10/
LOCATION:Karratha Family Centre\, 880 Bayview Road\, Bulgarra\, Western Australia\, 6714\, Australia
CATEGORIES:Toy Library Open
END:VEVENT
BEGIN:VEVENT
DTSTART;TZID=Australia/Perth:20240531T090000
DTEND;TZID=Australia/Perth:20240531T103000
DTSTAMP:20260421T221950
CREATED:20240429T031622Z
LAST-MODIFIED:20240527T023747Z
UID:3288-1717146000-1717151400@karrathafamilycentre.com.au
SUMMARY:Toy Library Open
DESCRIPTION:Toy Library borrowing and returning
URL:https://karrathafamilycentre.com.au/event/toy-library-open-9/
LOCATION:Karratha Family Centre\, 880 Bayview Road\, Bulgarra\, Western Australia\, 6714\, Australia
CATEGORIES:Toy Library Open
END:VEVENT
BEGIN:VEVENT
DTSTART;TZID=Australia/Perth:20240529T090000
DTEND;TZID=Australia/Perth:20240529T103000
DTSTAMP:20260421T221950
CREATED:20240429T031608Z
LAST-MODIFIED:20240527T023740Z
UID:3287-1716973200-1716978600@karrathafamilycentre.com.au
SUMMARY:Toy Library Open
DESCRIPTION:Toy Library borrowing and returning
URL:https://karrathafamilycentre.com.au/event/toy-library-open-8/
LOCATION:Karratha Family Centre\, 880 Bayview Road\, Bulgarra\, Western Australia\, 6714\, Australia
CATEGORIES:Toy Library Open
END:VEVENT
BEGIN:VEVENT
DTSTART;TZID=Australia/Perth:20240524T090000
DTEND;TZID=Australia/Perth:20240524T103000
DTSTAMP:20260421T221950
CREATED:20240429T031608Z
LAST-MODIFIED:20240527T023740Z
UID:3286-1716541200-1716546600@karrathafamilycentre.com.au
SUMMARY:Toy Library Open
DESCRIPTION:Toy Library borrowing and returning
URL:https://karrathafamilycentre.com.au/event/toy-library-open-7/
LOCATION:Karratha Family Centre\, 880 Bayview Road\, Bulgarra\, Western Australia\, 6714\, Australia
CATEGORIES:Toy Library Open
END:VEVENT
BEGIN:VEVENT
DTSTART;TZID=Australia/Perth:20240522T090000
DTEND;TZID=Australia/Perth:20240522T103000
DTSTAMP:20260421T221950
CREATED:20240429T031608Z
LAST-MODIFIED:20240527T023740Z
UID:3285-1716368400-1716373800@karrathafamilycentre.com.au
SUMMARY:Toy Library Open
DESCRIPTION:Toy Library borrowing and returning
URL:https://karrathafamilycentre.com.au/event/toy-library-open-6/
LOCATION:Karratha Family Centre\, 880 Bayview Road\, Bulgarra\, Western Australia\, 6714\, Australia
CATEGORIES:Toy Library Open
END:VEVENT
BEGIN:VEVENT
DTSTART;TZID=Australia/Perth:20240519T093000
DTEND;TZID=Australia/Perth:20240519T110000
DTSTAMP:20260421T221950
CREATED:20240429T031607Z
LAST-MODIFIED:20240527T023740Z
UID:3284-1716111000-1716116400@karrathafamilycentre.com.au
SUMMARY:Toy Library Open
DESCRIPTION:Toy Library borrowing and returning
URL:https://karrathafamilycentre.com.au/event/toy-library-open-5/
LOCATION:Karratha Family Centre\, 880 Bayview Road\, Bulgarra\, Western Australia\, 6714\, Australia
CATEGORIES:Toy Library Open
END:VEVENT
BEGIN:VEVENT
DTSTART;TZID=Australia/Perth:20240517T090000
DTEND;TZID=Australia/Perth:20240517T103000
DTSTAMP:20260421T221950
CREATED:20240429T031607Z
LAST-MODIFIED:20240527T023740Z
UID:3283-1715936400-1715941800@karrathafamilycentre.com.au
SUMMARY:Toy Library Open
DESCRIPTION:Toy Library borrowing and returning
URL:https://karrathafamilycentre.com.au/event/toy-library-open-4/
LOCATION:Karratha Family Centre\, 880 Bayview Road\, Bulgarra\, Western Australia\, 6714\, Australia
CATEGORIES:Toy Library Open
END:VEVENT
BEGIN:VEVENT
DTSTART;TZID=Australia/Perth:20240515T090000
DTEND;TZID=Australia/Perth:20240515T103000
DTSTAMP:20260421T221950
CREATED:20240429T031553Z
LAST-MODIFIED:20240527T023722Z
UID:3282-1715763600-1715769000@karrathafamilycentre.com.au
SUMMARY:Toy Library Open
DESCRIPTION:Toy Library borrowing and returning
URL:https://karrathafamilycentre.com.au/event/toy-library-open-3/
LOCATION:Karratha Family Centre\, 880 Bayview Road\, Bulgarra\, Western Australia\, 6714\, Australia
CATEGORIES:Toy Library Open
END:VEVENT
BEGIN:VEVENT
DTSTART;TZID=Australia/Perth:20240510T090000
DTEND;TZID=Australia/Perth:20240510T103000
DTSTAMP:20260421T221950
CREATED:20240429T031553Z
LAST-MODIFIED:20240527T023722Z
UID:3281-1715331600-1715337000@karrathafamilycentre.com.au
SUMMARY:Toy Library Open
DESCRIPTION:Toy Library borrowing and returning
URL:https://karrathafamilycentre.com.au/event/toy-library-open-2/
LOCATION:Karratha Family Centre\, 880 Bayview Road\, Bulgarra\, Western Australia\, 6714\, Australia
CATEGORIES:Toy Library Open
END:VEVENT
BEGIN:VEVENT
DTSTART;TZID=Australia/Perth:20240508T090000
DTEND;TZID=Australia/Perth:20240508T103000
DTSTAMP:20260421T221950
CREATED:20240429T031553Z
LAST-MODIFIED:20240527T023722Z
UID:3280-1715158800-1715164200@karrathafamilycentre.com.au
SUMMARY:Toy Library Open
DESCRIPTION:Toy Library borrowing and returning
URL:https://karrathafamilycentre.com.au/event/toy-library-open/
LOCATION:Karratha Family Centre\, 880 Bayview Road\, Bulgarra\, Western Australia\, 6714\, Australia
CATEGORIES:Toy Library Open
END:VEVENT
END:VCALENDAR