BEGIN:VCALENDAR
VERSION:2.0
PRODID:-//Karratha Family Centre - ECPv6.15.20//NONSGML v1.0//EN
CALSCALE:GREGORIAN
METHOD:PUBLISH
X-WR-CALNAME:Karratha Family Centre
X-ORIGINAL-URL:https://karrathafamilycentre.com.au
X-WR-CALDESC:Events for Karratha Family Centre
REFRESH-INTERVAL;VALUE=DURATION:PT1H
X-Robots-Tag:noindex
X-PUBLISHED-TTL:PT1H
BEGIN:VTIMEZONE
TZID:Australia/Perth
BEGIN:STANDARD
TZOFFSETFROM:+0800
TZOFFSETTO:+0800
TZNAME:AWST
DTSTART:20230101T000000
END:STANDARD
END:VTIMEZONE
BEGIN:VEVENT
DTSTART;TZID=Australia/Perth:20241210T150000
DTEND;TZID=Australia/Perth:20241210T170000
DTSTAMP:20260422T000639
CREATED:20241021T140122Z
LAST-MODIFIED:20241021T140122Z
UID:3899-1733842800-1733850000@karrathafamilycentre.com.au
SUMMARY:Construction Tuesdays
DESCRIPTION:Afternoon Drop & Go program for primary school age children focusing on construction\, hands-on activities.
URL:https://karrathafamilycentre.com.au/event/construction-tuesdays-28/
LOCATION:Karratha Family Centre\, 880 Bayview Road\, Bulgarra\, Western Australia\, 6714\, Australia
CATEGORIES:Construction
END:VEVENT
BEGIN:VEVENT
DTSTART;TZID=Australia/Perth:20241203T150000
DTEND;TZID=Australia/Perth:20241203T170000
DTSTAMP:20260422T000639
CREATED:20241021T140122Z
LAST-MODIFIED:20241021T140122Z
UID:3898-1733238000-1733245200@karrathafamilycentre.com.au
SUMMARY:Construction Tuesdays
DESCRIPTION:Afternoon Drop & Go program for primary school age children focusing on construction\, hands-on activities.
URL:https://karrathafamilycentre.com.au/event/construction-tuesdays-27/
LOCATION:Karratha Family Centre\, 880 Bayview Road\, Bulgarra\, Western Australia\, 6714\, Australia
CATEGORIES:Construction
END:VEVENT
BEGIN:VEVENT
DTSTART;TZID=Australia/Perth:20241126T150000
DTEND;TZID=Australia/Perth:20241126T170000
DTSTAMP:20260422T000639
CREATED:20241021T140122Z
LAST-MODIFIED:20241021T140122Z
UID:3897-1732633200-1732640400@karrathafamilycentre.com.au
SUMMARY:Construction Tuesdays
DESCRIPTION:Afternoon Drop & Go program for primary school age children focusing on construction\, hands-on activities.
URL:https://karrathafamilycentre.com.au/event/construction-tuesdays-26/
LOCATION:Karratha Family Centre\, 880 Bayview Road\, Bulgarra\, Western Australia\, 6714\, Australia
CATEGORIES:Construction
END:VEVENT
BEGIN:VEVENT
DTSTART;TZID=Australia/Perth:20241119T150000
DTEND;TZID=Australia/Perth:20241119T170000
DTSTAMP:20260422T000639
CREATED:20241021T140122Z
LAST-MODIFIED:20241021T140122Z
UID:3896-1732028400-1732035600@karrathafamilycentre.com.au
SUMMARY:Construction Tuesdays
DESCRIPTION:Afternoon Drop & Go program for primary school age children focusing on construction\, hands-on activities.
URL:https://karrathafamilycentre.com.au/event/construction-tuesdays-25/
LOCATION:Karratha Family Centre\, 880 Bayview Road\, Bulgarra\, Western Australia\, 6714\, Australia
CATEGORIES:Construction
END:VEVENT
BEGIN:VEVENT
DTSTART;TZID=Australia/Perth:20241112T150000
DTEND;TZID=Australia/Perth:20241112T170000
DTSTAMP:20260422T000639
CREATED:20241021T140122Z
LAST-MODIFIED:20241021T140122Z
UID:3895-1731423600-1731430800@karrathafamilycentre.com.au
SUMMARY:Construction Tuesdays
DESCRIPTION:Afternoon Drop & Go program for primary school age children focusing on construction\, hands-on activities.
URL:https://karrathafamilycentre.com.au/event/construction-tuesdays-24/
LOCATION:Karratha Family Centre\, 880 Bayview Road\, Bulgarra\, Western Australia\, 6714\, Australia
CATEGORIES:Construction
END:VEVENT
BEGIN:VEVENT
DTSTART;TZID=Australia/Perth:20241105T150000
DTEND;TZID=Australia/Perth:20241105T170000
DTSTAMP:20260422T000639
CREATED:20241021T140122Z
LAST-MODIFIED:20241021T140122Z
UID:3894-1730818800-1730826000@karrathafamilycentre.com.au
SUMMARY:Construction Tuesdays
DESCRIPTION:Afternoon Drop & Go program for primary school age children focusing on construction\, hands-on activities.
URL:https://karrathafamilycentre.com.au/event/construction-tuesdays-23/
LOCATION:Karratha Family Centre\, 880 Bayview Road\, Bulgarra\, Western Australia\, 6714\, Australia
CATEGORIES:Construction
END:VEVENT
BEGIN:VEVENT
DTSTART;TZID=Australia/Perth:20241029T150000
DTEND;TZID=Australia/Perth:20241029T170000
DTSTAMP:20260422T000639
CREATED:20241021T140122Z
LAST-MODIFIED:20241021T140122Z
UID:3893-1730214000-1730221200@karrathafamilycentre.com.au
SUMMARY:Construction Tuesdays
DESCRIPTION:Afternoon Drop & Go program for primary school age children focusing on construction\, hands-on activities.
URL:https://karrathafamilycentre.com.au/event/construction-tuesdays-22/
LOCATION:Karratha Family Centre\, 880 Bayview Road\, Bulgarra\, Western Australia\, 6714\, Australia
CATEGORIES:Construction
END:VEVENT
BEGIN:VEVENT
DTSTART;TZID=Australia/Perth:20241022T150000
DTEND;TZID=Australia/Perth:20241022T170000
DTSTAMP:20260422T000639
CREATED:20241021T140122Z
LAST-MODIFIED:20241021T140122Z
UID:3892-1729609200-1729616400@karrathafamilycentre.com.au
SUMMARY:Construction Tuesdays
DESCRIPTION:Afternoon Drop & Go program for primary school age children focusing on construction\, hands-on activities.
URL:https://karrathafamilycentre.com.au/event/construction-tuesdays-21/
LOCATION:Karratha Family Centre\, 880 Bayview Road\, Bulgarra\, Western Australia\, 6714\, Australia
CATEGORIES:Construction
END:VEVENT
BEGIN:VEVENT
DTSTART;TZID=Australia/Perth:20241015T150000
DTEND;TZID=Australia/Perth:20241015T170000
DTSTAMP:20260422T000639
CREATED:20241021T140122Z
LAST-MODIFIED:20241021T140122Z
UID:3891-1729004400-1729011600@karrathafamilycentre.com.au
SUMMARY:Construction Tuesdays
DESCRIPTION:Afternoon Drop & Go program for primary school age children focusing on construction\, hands-on activities.
URL:https://karrathafamilycentre.com.au/event/construction-tuesdays-20/
LOCATION:Karratha Family Centre\, 880 Bayview Road\, Bulgarra\, Western Australia\, 6714\, Australia
CATEGORIES:Construction
END:VEVENT
BEGIN:VEVENT
DTSTART;TZID=Australia/Perth:20241008T150000
DTEND;TZID=Australia/Perth:20241008T170000
DTSTAMP:20260422T000639
CREATED:20241021T140122Z
LAST-MODIFIED:20241021T140122Z
UID:3890-1728399600-1728406800@karrathafamilycentre.com.au
SUMMARY:Construction Tuesdays
DESCRIPTION:Afternoon Drop & Go program for primary school age children focusing on construction\, hands-on activities.
URL:https://karrathafamilycentre.com.au/event/construction-tuesdays-19/
LOCATION:Karratha Family Centre\, 880 Bayview Road\, Bulgarra\, Western Australia\, 6714\, Australia
CATEGORIES:Construction
END:VEVENT
BEGIN:VEVENT
DTSTART;TZID=Australia/Perth:20240917T150000
DTEND;TZID=Australia/Perth:20240917T170000
DTSTAMP:20260422T000639
CREATED:20240526T102126Z
LAST-MODIFIED:20240527T023107Z
UID:3596-1726585200-1726592400@karrathafamilycentre.com.au
SUMMARY:Construction Tuesdays
DESCRIPTION:Afternoon Drop & Go program for primary school age children focusing on construction\, hands-on activities.
URL:https://karrathafamilycentre.com.au/event/construction-tuesdays-18/
LOCATION:Karratha Family Centre\, 880 Bayview Road\, Bulgarra\, Western Australia\, 6714\, Australia
CATEGORIES:Construction
END:VEVENT
BEGIN:VEVENT
DTSTART;TZID=Australia/Perth:20240910T150000
DTEND;TZID=Australia/Perth:20240910T170000
DTSTAMP:20260422T000639
CREATED:20240526T102126Z
LAST-MODIFIED:20240527T023107Z
UID:3595-1725980400-1725987600@karrathafamilycentre.com.au
SUMMARY:Construction Tuesdays
DESCRIPTION:Afternoon Drop & Go program for primary school age children focusing on construction\, hands-on activities.
URL:https://karrathafamilycentre.com.au/event/construction-tuesdays-17/
LOCATION:Karratha Family Centre\, 880 Bayview Road\, Bulgarra\, Western Australia\, 6714\, Australia
CATEGORIES:Construction
END:VEVENT
BEGIN:VEVENT
DTSTART;TZID=Australia/Perth:20240903T150000
DTEND;TZID=Australia/Perth:20240903T170000
DTSTAMP:20260422T000639
CREATED:20240526T102118Z
LAST-MODIFIED:20240527T023050Z
UID:3589-1725375600-1725382800@karrathafamilycentre.com.au
SUMMARY:Construction Tuesdays
DESCRIPTION:Afternoon Drop & Go program for primary school age children focusing on construction\, hands-on activities.
URL:https://karrathafamilycentre.com.au/event/construction-tuesdays-16/
LOCATION:Karratha Family Centre\, 880 Bayview Road\, Bulgarra\, Western Australia\, 6714\, Australia
CATEGORIES:Construction
END:VEVENT
BEGIN:VEVENT
DTSTART;TZID=Australia/Perth:20240827T150000
DTEND;TZID=Australia/Perth:20240827T170000
DTSTAMP:20260422T000639
CREATED:20240526T102118Z
LAST-MODIFIED:20240527T023050Z
UID:3588-1724770800-1724778000@karrathafamilycentre.com.au
SUMMARY:Construction Tuesdays
DESCRIPTION:Afternoon Drop & Go program for primary school age children focusing on construction\, hands-on activities.
URL:https://karrathafamilycentre.com.au/event/construction-tuesdays-15/
LOCATION:Karratha Family Centre\, 880 Bayview Road\, Bulgarra\, Western Australia\, 6714\, Australia
CATEGORIES:Construction
END:VEVENT
BEGIN:VEVENT
DTSTART;TZID=Australia/Perth:20240820T150000
DTEND;TZID=Australia/Perth:20240820T170000
DTSTAMP:20260422T000639
CREATED:20240526T102118Z
LAST-MODIFIED:20240527T023050Z
UID:3587-1724166000-1724173200@karrathafamilycentre.com.au
SUMMARY:Construction Tuesdays
DESCRIPTION:Afternoon Drop & Go program for primary school age children focusing on construction\, hands-on activities.
URL:https://karrathafamilycentre.com.au/event/construction-tuesdays-14/
LOCATION:Karratha Family Centre\, 880 Bayview Road\, Bulgarra\, Western Australia\, 6714\, Australia
CATEGORIES:Construction
END:VEVENT
BEGIN:VEVENT
DTSTART;TZID=Australia/Perth:20240813T150000
DTEND;TZID=Australia/Perth:20240813T170000
DTSTAMP:20260422T000639
CREATED:20240526T102118Z
LAST-MODIFIED:20240527T023050Z
UID:3586-1723561200-1723568400@karrathafamilycentre.com.au
SUMMARY:Construction Tuesdays
DESCRIPTION:Afternoon Drop & Go program for primary school age children focusing on construction\, hands-on activities.
URL:https://karrathafamilycentre.com.au/event/construction-tuesdays-13/
LOCATION:Karratha Family Centre\, 880 Bayview Road\, Bulgarra\, Western Australia\, 6714\, Australia
CATEGORIES:Construction
END:VEVENT
BEGIN:VEVENT
DTSTART;TZID=Australia/Perth:20240806T150000
DTEND;TZID=Australia/Perth:20240806T170000
DTSTAMP:20260422T000639
CREATED:20240526T102117Z
LAST-MODIFIED:20240527T023050Z
UID:3585-1722956400-1722963600@karrathafamilycentre.com.au
SUMMARY:Construction Tuesdays
DESCRIPTION:Afternoon Drop & Go program for primary school age children focusing on construction\, hands-on activities.
URL:https://karrathafamilycentre.com.au/event/construction-tuesdays-12/
LOCATION:Karratha Family Centre\, 880 Bayview Road\, Bulgarra\, Western Australia\, 6714\, Australia
CATEGORIES:Construction
END:VEVENT
BEGIN:VEVENT
DTSTART;TZID=Australia/Perth:20240730T150000
DTEND;TZID=Australia/Perth:20240730T170000
DTSTAMP:20260422T000639
CREATED:20240526T102102Z
LAST-MODIFIED:20240527T023046Z
UID:3584-1722351600-1722358800@karrathafamilycentre.com.au
SUMMARY:Construction Tuesdays
DESCRIPTION:Afternoon Drop & Go program for primary school age children focusing on construction\, hands-on activities.
URL:https://karrathafamilycentre.com.au/event/construction-tuesdays-11/
LOCATION:Karratha Family Centre\, 880 Bayview Road\, Bulgarra\, Western Australia\, 6714\, Australia
CATEGORIES:Construction
END:VEVENT
BEGIN:VEVENT
DTSTART;TZID=Australia/Perth:20240723T150000
DTEND;TZID=Australia/Perth:20240723T170000
DTSTAMP:20260422T000639
CREATED:20240526T102102Z
LAST-MODIFIED:20240527T023046Z
UID:3583-1721746800-1721754000@karrathafamilycentre.com.au
SUMMARY:Construction Tuesdays
DESCRIPTION:Afternoon Drop & Go program for primary school age children focusing on construction\, hands-on activities.
URL:https://karrathafamilycentre.com.au/event/construction-tuesdays-10/
LOCATION:Karratha Family Centre\, 880 Bayview Road\, Bulgarra\, Western Australia\, 6714\, Australia
CATEGORIES:Construction
END:VEVENT
BEGIN:VEVENT
DTSTART;TZID=Australia/Perth:20240716T150000
DTEND;TZID=Australia/Perth:20240716T170000
DTSTAMP:20260422T000639
CREATED:20240526T102102Z
LAST-MODIFIED:20240527T023046Z
UID:3582-1721142000-1721149200@karrathafamilycentre.com.au
SUMMARY:Construction Tuesdays
DESCRIPTION:Afternoon Drop & Go program for primary school age children focusing on construction\, hands-on activities.
URL:https://karrathafamilycentre.com.au/event/construction-tuesdays-9/
LOCATION:Karratha Family Centre\, 880 Bayview Road\, Bulgarra\, Western Australia\, 6714\, Australia
CATEGORIES:Construction
END:VEVENT
BEGIN:VEVENT
DTSTART;TZID=Australia/Perth:20240625T150000
DTEND;TZID=Australia/Perth:20240625T170000
DTSTAMP:20260422T000639
CREATED:20240429T031522Z
LAST-MODIFIED:20240527T023648Z
UID:3268-1719327600-1719334800@karrathafamilycentre.com.au
SUMMARY:Construction Tuesdays
DESCRIPTION:Afternoon Drop & Go program for primary school age children focusing on construction\, hands-on activities.
URL:https://karrathafamilycentre.com.au/event/construction-tuesdays-8/
LOCATION:Karratha Family Centre\, 880 Bayview Road\, Bulgarra\, Western Australia\, 6714\, Australia
CATEGORIES:Construction
END:VEVENT
BEGIN:VEVENT
DTSTART;TZID=Australia/Perth:20240618T150000
DTEND;TZID=Australia/Perth:20240618T170000
DTSTAMP:20260422T000639
CREATED:20240429T031508Z
LAST-MODIFIED:20240527T023646Z
UID:3267-1718722800-1718730000@karrathafamilycentre.com.au
SUMMARY:Construction Tuesdays
DESCRIPTION:Afternoon Drop & Go program for primary school age children focusing on construction\, hands-on activities.
URL:https://karrathafamilycentre.com.au/event/construction-tuesdays-7/
LOCATION:Karratha Family Centre\, 880 Bayview Road\, Bulgarra\, Western Australia\, 6714\, Australia
CATEGORIES:Construction
END:VEVENT
BEGIN:VEVENT
DTSTART;TZID=Australia/Perth:20240611T150000
DTEND;TZID=Australia/Perth:20240611T170000
DTSTAMP:20260422T000639
CREATED:20240429T031508Z
LAST-MODIFIED:20240527T023646Z
UID:3266-1718118000-1718125200@karrathafamilycentre.com.au
SUMMARY:Construction Tuesdays
DESCRIPTION:Afternoon Drop & Go program for primary school age children focusing on construction\, hands-on activities.
URL:https://karrathafamilycentre.com.au/event/construction-tuesdays-6/
LOCATION:Karratha Family Centre\, 880 Bayview Road\, Bulgarra\, Western Australia\, 6714\, Australia
CATEGORIES:Construction
END:VEVENT
BEGIN:VEVENT
DTSTART;TZID=Australia/Perth:20240604T150000
DTEND;TZID=Australia/Perth:20240604T170000
DTSTAMP:20260422T000639
CREATED:20240429T031508Z
LAST-MODIFIED:20240527T023646Z
UID:3265-1717513200-1717520400@karrathafamilycentre.com.au
SUMMARY:Construction Tuesdays
DESCRIPTION:Afternoon Drop & Go program for primary school age children focusing on construction\, hands-on activities.
URL:https://karrathafamilycentre.com.au/event/construction-tuesdays-5/
LOCATION:Karratha Family Centre\, 880 Bayview Road\, Bulgarra\, Western Australia\, 6714\, Australia
CATEGORIES:Construction
END:VEVENT
BEGIN:VEVENT
DTSTART;TZID=Australia/Perth:20240528T150000
DTEND;TZID=Australia/Perth:20240528T170000
DTSTAMP:20260422T000639
CREATED:20240429T031508Z
LAST-MODIFIED:20240527T023646Z
UID:3264-1716908400-1716915600@karrathafamilycentre.com.au
SUMMARY:Construction Tuesdays
DESCRIPTION:Afternoon Drop & Go program for primary school age children focusing on construction\, hands-on activities.
URL:https://karrathafamilycentre.com.au/event/construction-tuesdays-4/
LOCATION:Karratha Family Centre\, 880 Bayview Road\, Bulgarra\, Western Australia\, 6714\, Australia
CATEGORIES:Construction
END:VEVENT
BEGIN:VEVENT
DTSTART;TZID=Australia/Perth:20240521T150000
DTEND;TZID=Australia/Perth:20240521T170000
DTSTAMP:20260422T000639
CREATED:20240429T031508Z
LAST-MODIFIED:20240527T023646Z
UID:3263-1716303600-1716310800@karrathafamilycentre.com.au
SUMMARY:Construction Tuesdays
DESCRIPTION:Afternoon Drop & Go program for primary school age children focusing on construction\, hands-on activities.
URL:https://karrathafamilycentre.com.au/event/construction-tuesdays-3/
LOCATION:Karratha Family Centre\, 880 Bayview Road\, Bulgarra\, Western Australia\, 6714\, Australia
CATEGORIES:Construction
END:VEVENT
BEGIN:VEVENT
DTSTART;TZID=Australia/Perth:20240514T150000
DTEND;TZID=Australia/Perth:20240514T170000
DTSTAMP:20260422T000639
CREATED:20240429T031453Z
LAST-MODIFIED:20240527T023602Z
UID:3262-1715698800-1715706000@karrathafamilycentre.com.au
SUMMARY:Construction Tuesdays
DESCRIPTION:Afternoon Drop & Go program for primary school age children focusing on construction\, hands-on activities.
URL:https://karrathafamilycentre.com.au/event/construction-tuesdays-2/
LOCATION:Karratha Family Centre\, 880 Bayview Road\, Bulgarra\, Western Australia\, 6714\, Australia
CATEGORIES:Construction
END:VEVENT
BEGIN:VEVENT
DTSTART;TZID=Australia/Perth:20240507T150000
DTEND;TZID=Australia/Perth:20240507T170000
DTSTAMP:20260422T000639
CREATED:20240429T031453Z
LAST-MODIFIED:20240527T023602Z
UID:3261-1715094000-1715101200@karrathafamilycentre.com.au
SUMMARY:Construction Tuesdays
DESCRIPTION:Afternoon Drop & Go program for primary school age children focusing on construction\, hands-on activities.
URL:https://karrathafamilycentre.com.au/event/construction-tuesdays/
LOCATION:Karratha Family Centre\, 880 Bayview Road\, Bulgarra\, Western Australia\, 6714\, Australia
CATEGORIES:Construction
END:VEVENT
END:VCALENDAR